BEGIN:VCALENDAR
VERSION:2.0
PRODID:-//Salisbury &amp; South Wiltshire CAMRA - ECPv6.15.20//NONSGML v1.0//EN
CALSCALE:GREGORIAN
METHOD:PUBLISH
X-WR-CALNAME:Salisbury &amp; South Wiltshire CAMRA
X-ORIGINAL-URL:https://salisburycamra.org.uk
X-WR-CALDESC:Events for Salisbury &amp; South Wiltshire CAMRA
REFRESH-INTERVAL;VALUE=DURATION:PT1H
X-Robots-Tag:noindex
X-PUBLISHED-TTL:PT1H
BEGIN:VTIMEZONE
TZID:Europe/London
BEGIN:DAYLIGHT
TZOFFSETFROM:+0000
TZOFFSETTO:+0100
TZNAME:BST
DTSTART:20240331T010000
END:DAYLIGHT
BEGIN:STANDARD
TZOFFSETFROM:+0100
TZOFFSETTO:+0000
TZNAME:GMT
DTSTART:20241027T010000
END:STANDARD
BEGIN:DAYLIGHT
TZOFFSETFROM:+0000
TZOFFSETTO:+0100
TZNAME:BST
DTSTART:20250330T010000
END:DAYLIGHT
BEGIN:STANDARD
TZOFFSETFROM:+0100
TZOFFSETTO:+0000
TZNAME:GMT
DTSTART:20251026T010000
END:STANDARD
BEGIN:DAYLIGHT
TZOFFSETFROM:+0000
TZOFFSETTO:+0100
TZNAME:BST
DTSTART:20260329T010000
END:DAYLIGHT
BEGIN:STANDARD
TZOFFSETFROM:+0100
TZOFFSETTO:+0000
TZNAME:GMT
DTSTART:20261025T010000
END:STANDARD
BEGIN:DAYLIGHT
TZOFFSETFROM:+0000
TZOFFSETTO:+0100
TZNAME:BST
DTSTART:20270328T010000
END:DAYLIGHT
BEGIN:STANDARD
TZOFFSETFROM:+0100
TZOFFSETTO:+0000
TZNAME:GMT
DTSTART:20271031T010000
END:STANDARD
END:VTIMEZONE
BEGIN:VEVENT
DTSTART;TZID=Europe/London:20260318T180000
DTEND;TZID=Europe/London:20260318T223000
DTSTAMP:20260422T225836
CREATED:20260304T140641Z
LAST-MODIFIED:20260304T140646Z
UID:4093-1773856800-1773873000@salisburycamra.org.uk
SUMMARY:City Saunter
DESCRIPTION:New Street… \n\n\n\n\n(A) Rai d’Or (N.B. Earlier start as\, those who wish\, can eat before setting off for the Bell & Crown at around 8.00)\n\n\n\n(B) Bell & Crown\n\n\n\n(C) Wig & Quill\n\n\n\n(D) New Inn\n\n\n\n\nTimings are approximate.
URL:https://salisburycamra.org.uk/event/city-saunter-9/
END:VEVENT
BEGIN:VEVENT
DTSTART;TZID=Europe/London:20260305T193000
DTEND;TZID=Europe/London:20260305T220000
DTSTAMP:20260422T225836
CREATED:20260304T141040Z
LAST-MODIFIED:20260304T141053Z
UID:4096-1772739000-1772748000@salisburycamra.org.uk
SUMMARY:Open Branch Meeting - Rugby Club\, Salisbury
DESCRIPTION:All welcome\, come along and join in.
URL:https://salisburycamra.org.uk/event/open-branch-meeting-rugby-club-salisbury/
END:VEVENT
BEGIN:VEVENT
DTSTART;TZID=Europe/London:20260205T193000
DTEND;TZID=Europe/London:20260205T220000
DTSTAMP:20260422T225836
CREATED:20251204T113944Z
LAST-MODIFIED:20260304T140902Z
UID:4035-1770319800-1770328800@salisburycamra.org.uk
SUMMARY:Open Branch Meeting - Ox Row Inn\, Salisbury
DESCRIPTION:All welcome\, come along and join in.
URL:https://salisburycamra.org.uk/event/open-branch-meeting-ox-row-inn-salisbury-7/
END:VEVENT
BEGIN:VEVENT
DTSTART;TZID=Europe/London:20260123T183000
DTEND;TZID=Europe/London:20260124T200000
DTSTAMP:20260422T225836
CREATED:20251109T071041Z
LAST-MODIFIED:20260120T102701Z
UID:4011-1769193000-1769284800@salisburycamra.org.uk
SUMMARY:Winterfest XXVII
DESCRIPTION:Sessions on Friday 6.30 – 11 and Saturday 11.00 – 8 \n\n\n\n24 cask ales\, 10 real ciders and perries. \n\n\n\n£10.00 Per session. Ticket includes glass and souvenir programme. Card-carrying CAMRA members get concession. Tickets sales on-line only from 1st December. We do not charge a booking fee! \n\n\n\n\n\n\nBuy Tickets\n\n\n\n\n\nBeer List
URL:https://salisburycamra.org.uk/event/winterfest/
END:VEVENT
BEGIN:VEVENT
DTSTART;TZID=Europe/London:20260121T193000
DTEND;TZID=Europe/London:20260121T230000
DTSTAMP:20260422T225836
CREATED:20251204T114651Z
LAST-MODIFIED:20251204T114801Z
UID:4038-1769023800-1769036400@salisburycamra.org.uk
SUMMARY:City Saunter - City Centre
DESCRIPTION:Salt Lane\, Bedwin St. & Castle St… \n\n\n\n\n(A) Five Bells\n\n\n\n(B) Pheasant\n\n\n\n(C) Royal George\n\n\n\n(D) George & Dragon\n\n\n\n\nTimings are approximate.
URL:https://salisburycamra.org.uk/event/city-saunter-city-centre-6/
END:VEVENT
BEGIN:VEVENT
DTSTART;TZID=Europe/London:20260110T120000
DTEND;TZID=Europe/London:20260110T170000
DTSTAMP:20260422T225836
CREATED:20251204T110314Z
LAST-MODIFIED:20251204T110325Z
UID:4028-1768046400-1768064400@salisburycamra.org.uk
SUMMARY:Christmas (New Year) Lunch
DESCRIPTION:This year we have booked for lunch at the Coach & Horses\, Salisbury. Please contact Steve Stringer to book your place.
URL:https://salisburycamra.org.uk/event/christmas-new-year-lunch/
END:VEVENT
BEGIN:VEVENT
DTSTART;TZID=Europe/London:20251212T183000
DTEND;TZID=Europe/London:20251212T230000
DTSTAMP:20260422T225836
CREATED:20251204T095021Z
LAST-MODIFIED:20251204T095032Z
UID:4026-1765564200-1765580400@salisburycamra.org.uk
SUMMARY:GBG Saunter 2025
DESCRIPTION:The Good Beer Guide Contenders… \n\n\n\n\n(A) Wyndham Arms – 18:30 – 19:00\n\n\n\n(B) Winchester Gate – 19:10 – 19:40 (we may need to split the group for the following two pubs):\n\n\n\n(C) Coach & Horses – 19:45 – 20: 30\n\n\n\n(D) Rai d’Or 20:35 – 21:15\n\n\n\n(E) Haunch of Venison – 21:25 – 22:00\n\n\n\n(F) Duke of York – 22:15 –
URL:https://salisburycamra.org.uk/event/gbg-saunter-2025/
END:VEVENT
BEGIN:VEVENT
DTSTART;TZID=Europe/London:20251119T193000
DTEND;TZID=Europe/London:20251119T223000
DTSTAMP:20260422T225836
CREATED:20251118T170346Z
LAST-MODIFIED:20251118T170518Z
UID:4021-1763580600-1763591400@salisburycamra.org.uk
SUMMARY:City Saunter - Castle Street
DESCRIPTION:Castle Street… \n\n\n\n\n(A) George & Dragon\n\n\n\n(B) Avon Brewery (20:15)\n\n\n\n(C) Qudos (20:45)\n\n\n\n(D) Ox Row Inn (21:15)\n\n\n\n\nTimings are approximate.
URL:https://salisburycamra.org.uk/event/castle-street/
END:VEVENT
BEGIN:VEVENT
DTSTART;TZID=Europe/London:20251105T193000
DTEND;TZID=Europe/London:20251105T213000
DTSTAMP:20260422T225836
CREATED:20251104T033154Z
LAST-MODIFIED:20251104T033205Z
UID:4017-1762371000-1762378200@salisburycamra.org.uk
SUMMARY:Open Branch Meeting - Wyndham Arms
DESCRIPTION:All welcome\, come along and join in.
URL:https://salisburycamra.org.uk/event/open-branch-meeting-wyndham-arms-5/
END:VEVENT
BEGIN:VEVENT
DTSTART;TZID=Europe/London:20251015T193000
DTEND;TZID=Europe/London:20251015T223000
DTSTAMP:20260422T225836
CREATED:20251002T121132Z
LAST-MODIFIED:20251002T121139Z
UID:4003-1760556600-1760567400@salisburycamra.org.uk
SUMMARY:Devizes Road
DESCRIPTION:Devizes Road… \n\n\n\n\n(A) Royal Oak\n\n\n\n(B) Devizes Inn\n\n\n\n(C) Village Freehouse\n\n\n\n(D) Duke of York\n\n\n\n\nBuses from City Centre:R1 New Canal\, Stop T19:10 (arr 19:18) to Roman Road CemeteryThen 5 minute walk up Devizes Road.
URL:https://salisburycamra.org.uk/event/devizes-road/
END:VEVENT
BEGIN:VEVENT
DTSTART;TZID=Europe/London:20250917T193000
DTEND;TZID=Europe/London:20250917T223000
DTSTAMP:20260422T225836
CREATED:20250908T064336Z
LAST-MODIFIED:20250908T064355Z
UID:3973-1758137400-1758148200@salisburycamra.org.uk
SUMMARY:Amesbury Amble
DESCRIPTION:Amesbury… \n\n\n\n\n(A) The New Inn\n\n\n\n(B) The Antrobus Arms\n\n\n\n(C) The George Hotel \n\n\n\n(D) The Bell\n\n\n\n\nSuggest the X4 bus at 19:07 from New Canal
URL:https://salisburycamra.org.uk/event/amesbury-amble-2/
END:VEVENT
BEGIN:VEVENT
DTSTART;TZID=Europe/London:20250912T193000
DTEND;TZID=Europe/London:20250912T223000
DTSTAMP:20260422T225836
CREATED:20250908T062540Z
LAST-MODIFIED:20250908T062553Z
UID:3971-1757705400-1757716200@salisburycamra.org.uk
SUMMARY:Minibus Trip - South-West
DESCRIPTION:Berwick St John\, Tollard Royal\, Swallowcliffe and Chicksgrove. \n\n\n\nN.B. Minibus will depart from the coach station. \n\n\n\nNames to Andrew please to guarantee your place \n\n\n\n\n(A) Coach Station\n\n\n\n(B) The Talbot Inn Berwick St John.\n\n\n\n(B) King John Tollard Royal\n\n\n\n(C) Royal Oak Swallowcliffe\n\n\n\n(D) The Compasses Chicksgrove
URL:https://salisburycamra.org.uk/event/minibus-trip-south-west-2/
END:VEVENT
BEGIN:VEVENT
DTSTART;TZID=Europe/London:20250903T193000
DTEND;TZID=Europe/London:20250903T220000
DTSTAMP:20260422T225836
CREATED:20250811T165119Z
LAST-MODIFIED:20250811T165124Z
UID:3876-1756927800-1756936800@salisburycamra.org.uk
SUMMARY:Open Branch Meeting - Winchester Gate
DESCRIPTION:All welcome\, come along and join in.
URL:https://salisburycamra.org.uk/event/open-branch-meeting-winchester-gate-4/
ORGANIZER;CN="Andrew Hesketh":MAILTO:chairman@salisburycamra.org.uk
END:VEVENT
BEGIN:VEVENT
DTSTART;TZID=Europe/London:20250711T190000
DTEND;TZID=Europe/London:20250711T230000
DTSTAMP:20260422T225836
CREATED:20250701T163324Z
LAST-MODIFIED:20250701T163331Z
UID:3862-1752260400-1752274800@salisburycamra.org.uk
SUMMARY:Minibus Trip: South
DESCRIPTION:Hale\, Downton & Nunton. \n\n\n\nN.B. Minibus will depart from the coach station. \n\n\n\nNames to Andrew please to guarantee your place \n\n\n\n\n(A) Coach Station\n\n\n\nDead Duck Brewery\, Hale.\n\n\n\n(B) Downton Brewery Tap\n\n\n\n(C) Radnor Arms\, Nunton
URL:https://salisburycamra.org.uk/event/minibus-trip-south-3/
END:VEVENT
BEGIN:VEVENT
DTSTART;TZID=Europe/London:20250705T115600
DTEND;TZID=Europe/London:20250705T171500
DTSTAMP:20260422T225836
CREATED:20250701T162547Z
LAST-MODIFIED:20250701T162557Z
UID:3860-1751716560-1751735700@salisburycamra.org.uk
SUMMARY:Train Social: Mottisfont and Chandlers Ford.
DESCRIPTION:Train leaves Salisbury 11.56am\, arrives Mottisfont 12.14pm.Visit Mill Arms\, Mottisfont. \n\n\n\nTrain leaves Mottisfont 1.14pm\, arrives Chandlers Ford 1.56pm. \n\n\n\nVisit Steel Tank\, Chandlers Ford. \n\n\n\nReturn from Chandlers Ford 3.14pm or 4.14pm\, arrive Salisbury 4.15 or 5.15pm.
URL:https://salisburycamra.org.uk/event/train-social-mottisfont-and-chandlers-ford/
ORGANIZER;CN="Andrew Ward":MAILTO:ptc@salisburycamra.org.uk
END:VEVENT
BEGIN:VEVENT
DTSTART;TZID=Europe/London:20250702T193000
DTEND;TZID=Europe/London:20250702T213000
DTSTAMP:20260422T225836
CREATED:20250701T161849Z
LAST-MODIFIED:20250701T161856Z
UID:3858-1751484600-1751491800@salisburycamra.org.uk
SUMMARY:Open Branch Meeting - Ox Row Inn\, Salisbury
DESCRIPTION:All welcome\, come along and join in.
URL:https://salisburycamra.org.uk/event/open-branch-meeting-ox-row-inn-salisbury-6/
END:VEVENT
BEGIN:VEVENT
DTSTART;TZID=Europe/London:20250621T170000
DTEND;TZID=Europe/London:20250621T210000
DTSTAMP:20260422T225836
CREATED:20250504T093043Z
LAST-MODIFIED:20250504T113133Z
UID:3837-1750525200-1750539600@salisburycamra.org.uk
SUMMARY:Summerfest 2025 (Saturday Evening)
DESCRIPTION:24 cask ales\, 4 real ciders. Food available \n\n\n\n\n\n\n\n\n\n\nBuy Tickets\n\n\n\n\n\nBeer List and Other Details
URL:https://salisburycamra.org.uk/event/summerfest-2025-saturday-evening/
LOCATION:Salisbury Guildhall\, Market Place\, Salisbury\, Wiltshire\, SP1 1JH\, United Kingdom
END:VEVENT
BEGIN:VEVENT
DTSTART;TZID=Europe/London:20250621T110000
DTEND;TZID=Europe/London:20250621T150000
DTSTAMP:20260422T225836
CREATED:20250504T092814Z
LAST-MODIFIED:20250504T113026Z
UID:3835-1750503600-1750518000@salisburycamra.org.uk
SUMMARY:Summerfest 2025 (Saturday Lunch)
DESCRIPTION:24 cask ales\, 4 real ciders. Food available \n\n\n\n\n\n\n\n\n\n\nBuy Tickets\n\n\n\n\n\nBeer List and Other Details
URL:https://salisburycamra.org.uk/event/summerfest-2025-satuday-lunch/
LOCATION:Salisbury Guildhall\, Market Place\, Salisbury\, Wiltshire\, SP1 1JH\, United Kingdom
END:VEVENT
BEGIN:VEVENT
DTSTART;TZID=Europe/London:20250620T183000
DTEND;TZID=Europe/London:20250620T230000
DTSTAMP:20260422T225836
CREATED:20250504T092457Z
LAST-MODIFIED:20250504T092501Z
UID:3833-1750444200-1750460400@salisburycamra.org.uk
SUMMARY:Summerfest 2025 (Friday)
DESCRIPTION:24 cask ales\, 4 real ciders. Food available \n\n\n\n\n\n\n\n\n\n\nBuy Tickets\n\n\n\n\n\nBeer List and Other Details
URL:https://salisburycamra.org.uk/event/summerfest-2025-friday/
LOCATION:Salisbury Guildhall\, Market Place\, Salisbury\, Wiltshire\, SP1 1JH\, United Kingdom
END:VEVENT
BEGIN:VEVENT
DTSTART;TZID=Europe/London:20250521T193000
DTEND;TZID=Europe/London:20250521T220000
DTSTAMP:20260422T225836
CREATED:20250504T093951Z
LAST-MODIFIED:20250504T093955Z
UID:3840-1747855800-1747864800@salisburycamra.org.uk
SUMMARY:Wilton Wonder
DESCRIPTION:Wilton… \n\n\n\n\n(A)   Pembroke Arms\n\n\n\n(B)   Greyhound\n\n\n\n(C)   Bear\n\n\n\n\nSuggest the PR3 bus at 19:10 from New Canal
URL:https://salisburycamra.org.uk/event/wilton-wonder/
END:VEVENT
BEGIN:VEVENT
DTSTART;TZID=Europe/London:20250516T190000
DTEND;TZID=Europe/London:20250516T230000
DTSTAMP:20260422T225836
CREATED:20250406T121714Z
LAST-MODIFIED:20250504T090712Z
UID:3821-1747422000-1747436400@salisburycamra.org.uk
SUMMARY:Minibus Trip (Out West)
DESCRIPTION:Chilmark\, Hindon\, Tisbury & Fovant \n\n\n\nN.B. Minibus will depart from the coach station. Also\, note later start time of 7.00. \n\n\n\nNames to Andrew please to guarantee your place \n\n\n\n\n(A) Coach Station\n\n\n\n(B) Black Dog\, Chilmark\n\n\n\n(C) The Lamb\, Hindon\n\n\n\n(D) Boot Inn\, Tisbury\n\n\n\n(E) Greater Good\, Fovant
URL:https://salisburycamra.org.uk/event/minibus-trip-out-west-2/
END:VEVENT
BEGIN:VEVENT
DTSTART;TZID=Europe/London:20250510T114000
DTEND;TZID=Europe/London:20250510T170000
DTSTAMP:20260422T225836
CREATED:20250504T091529Z
LAST-MODIFIED:20250504T091534Z
UID:3831-1746877200-1746896400@salisburycamra.org.uk
SUMMARY:Bus Social - Romsey
DESCRIPTION:Bus Trip to Romsey – starting at 11:40 Bus X7R stand D Endless St. \n\n\n\nTrip to include to Flack Manor taproom.
URL:https://salisburycamra.org.uk/event/bus-social-romsey-2/
END:VEVENT
BEGIN:VEVENT
DTSTART;TZID=Europe/London:20250507T193000
DTEND;TZID=Europe/London:20250507T220000
DTSTAMP:20260422T225836
CREATED:20250504T090059Z
LAST-MODIFIED:20250504T090106Z
UID:3827-1746646200-1746655200@salisburycamra.org.uk
SUMMARY:Open Branch Meeting - Wyndham Arms\, Salisbury
DESCRIPTION:All welcome\, come along and join in.
URL:https://salisburycamra.org.uk/event/open-branch-meeting-wyndham-arms-salisbury-2/
END:VEVENT
BEGIN:VEVENT
DTSTART;TZID=Europe/London:20250319T193000
DTEND;TZID=Europe/London:20250319T223000
DTSTAMP:20260422T225836
CREATED:20250305T170538Z
LAST-MODIFIED:20250305T170544Z
UID:3746-1742412600-1742423400@salisburycamra.org.uk
SUMMARY:City Saunter - City Centre
DESCRIPTION:Market Square… \n\n\n\n\n(A) Five Bells\n\n\n\n(B) Pheasant\n\n\n\n(C) Royal Gearge\n\n\n\n(D) George & Dragon
URL:https://salisburycamra.org.uk/event/city-saunter-city-centre-5/
END:VEVENT
BEGIN:VEVENT
DTSTART;TZID=Europe/London:20250314T190000
DTEND;TZID=Europe/London:20250314T230000
DTSTAMP:20260422T225836
CREATED:20250305T165401Z
LAST-MODIFIED:20250308T104649Z
UID:3744-1741978800-1741993200@salisburycamra.org.uk
SUMMARY:Minibus Trip - Bourne Valley
DESCRIPTION:Winterbourne Dauntsey\, Idmiston\, Newton Tony\, Laverstock \n\n\n\nN.B. Minibus will depart from the coach station. Also\, note later start time of 7.00. \n\n\n\nNames to Andrew please to guarantee your place \n\n\n\n\n(A) Coach Station\n\n\n\n(B) Winterbourne Arms\, Winterbourne Dauntsey\n\n\n\n(C) Earl of Normanton\, Idmiston\n\n\n\n(D) Malet\, Newton Tony\n\n\n\n(E) Duck\, Laverstock
URL:https://salisburycamra.org.uk/event/minibus-trip-bourne-valley-2/
END:VEVENT
BEGIN:VEVENT
DTSTART;TZID=Europe/London:20250308T115000
DTEND;TZID=Europe/London:20250308T163000
DTSTAMP:20260422T225836
CREATED:20250305T170036Z
LAST-MODIFIED:20250305T170040Z
UID:3739-1741434600-1741451400@salisburycamra.org.uk
SUMMARY:Bus Social - 29 Bus
DESCRIPTION:Salisbury to Bishopstone: White Hart and Berwick St John: Talbot Inn \n\n\n\nSalisbury 11:50 Bus 29 stand N – Bishopstone White Hart arr. 12:20 \n\n\n\nBishopstone White Hart dep. 13:50 – Berwick St John: Talbot Inn arr 14:28 \n\n\n\nBerwick St John: Talbot Inn dep 15:26 – Salisbury 16:16 \n\n\n\nFood available at both\, but only 12-14:30 at White Hart I understand both pubs are Dog friendly.
URL:https://salisburycamra.org.uk/event/bus-social-29-bus/
END:VEVENT
BEGIN:VEVENT
DTSTART;TZID=Europe/London:20250305T193000
DTEND;TZID=Europe/London:20250305T213000
DTSTAMP:20260422T225836
CREATED:20250305T092656Z
LAST-MODIFIED:20250305T092805Z
UID:3731-1741203000-1741210200@salisburycamra.org.uk
SUMMARY:Open Branch Meeting: Pheasant\, Salisbury
DESCRIPTION:All welcome\, come along and join in.
URL:https://salisburycamra.org.uk/event/open-branch-meeting-30/
END:VEVENT
BEGIN:VEVENT
DTSTART;TZID=Europe/London:20250221T190000
DTEND;TZID=Europe/London:20250221T230000
DTSTAMP:20260422T225836
CREATED:20250127T190228Z
LAST-MODIFIED:20250305T164121Z
UID:3710-1740164400-1740178800@salisburycamra.org.uk
SUMMARY:Minibus Trip - Out West
DESCRIPTION:Stoford\, Stapleford\, Steeple Langford & Berwick St. James \n\n\n\nN.B. Minibus will depart from the coach station. Also\, note later start time of 7.00. \n\n\n\nNames to Andrew please to guarantee your place \n\n\n\n\n(A) Coach Station\n\n\n\n(B) Swan\, Stoford\n\n\n\n(C) Pelican\, Stapleford\n\n\n\n(D) Rainbow on the Lake\, Langford\n\n\n\n(E) Boot\, Berwick St. James
URL:https://salisburycamra.org.uk/event/minibus-tip-out-west/
END:VEVENT
BEGIN:VEVENT
DTSTART;TZID=Europe/London:20250212T193000
DTEND;TZID=Europe/London:20250212T230000
DTSTAMP:20260422T225836
CREATED:20250127T184614Z
LAST-MODIFIED:20250127T184910Z
UID:3706-1739388600-1739401200@salisburycamra.org.uk
SUMMARY:City Saunter - Market Square
DESCRIPTION:Market Square… \n\n\n\n\n(A) Ox Row Inn\n\n\n\n(B) Market Tavern\n\n\n\n(C) Haunch of Venison
URL:https://salisburycamra.org.uk/event/city-saunter-market-square-3/
END:VEVENT
BEGIN:VEVENT
DTSTART;TZID=Europe/London:20250208T110000
DTEND;TZID=Europe/London:20250208T170000
DTSTAMP:20260422T225836
CREATED:20250127T183611Z
LAST-MODIFIED:20250127T183620Z
UID:3704-1739012400-1739034000@salisburycamra.org.uk
SUMMARY:Bus Social - Romsey
DESCRIPTION:Romsey… contact: ptc@salisburycamra.org.uk
URL:https://salisburycamra.org.uk/event/bus-social-romsey/
END:VEVENT
END:VCALENDAR