BEGIN:VCALENDAR
VERSION:2.0
PRODID:-//Salisbury &amp; South Wiltshire CAMRA - ECPv6.15.20//NONSGML v1.0//EN
CALSCALE:GREGORIAN
METHOD:PUBLISH
X-WR-CALNAME:Salisbury &amp; South Wiltshire CAMRA
X-ORIGINAL-URL:https://salisburycamra.org.uk
X-WR-CALDESC:Events for Salisbury &amp; South Wiltshire CAMRA
REFRESH-INTERVAL;VALUE=DURATION:PT1H
X-Robots-Tag:noindex
X-PUBLISHED-TTL:PT1H
BEGIN:VTIMEZONE
TZID:Europe/London
BEGIN:DAYLIGHT
TZOFFSETFROM:+0000
TZOFFSETTO:+0100
TZNAME:BST
DTSTART:20250330T010000
END:DAYLIGHT
BEGIN:STANDARD
TZOFFSETFROM:+0100
TZOFFSETTO:+0000
TZNAME:GMT
DTSTART:20251026T010000
END:STANDARD
BEGIN:DAYLIGHT
TZOFFSETFROM:+0000
TZOFFSETTO:+0100
TZNAME:BST
DTSTART:20260329T010000
END:DAYLIGHT
BEGIN:STANDARD
TZOFFSETFROM:+0100
TZOFFSETTO:+0000
TZNAME:GMT
DTSTART:20261025T010000
END:STANDARD
BEGIN:DAYLIGHT
TZOFFSETFROM:+0000
TZOFFSETTO:+0100
TZNAME:BST
DTSTART:20270328T010000
END:DAYLIGHT
BEGIN:STANDARD
TZOFFSETFROM:+0100
TZOFFSETTO:+0000
TZNAME:GMT
DTSTART:20271031T010000
END:STANDARD
END:VTIMEZONE
BEGIN:VEVENT
DTSTART;TZID=Europe/London:20260305T193000
DTEND;TZID=Europe/London:20260305T220000
DTSTAMP:20260425T153442
CREATED:20260304T141040Z
LAST-MODIFIED:20260304T141053Z
UID:4096-1772739000-1772748000@salisburycamra.org.uk
SUMMARY:Open Branch Meeting - Rugby Club\, Salisbury
DESCRIPTION:All welcome\, come along and join in.
URL:https://salisburycamra.org.uk/event/open-branch-meeting-rugby-club-salisbury/
END:VEVENT
BEGIN:VEVENT
DTSTART;TZID=Europe/London:20260318T180000
DTEND;TZID=Europe/London:20260318T223000
DTSTAMP:20260425T153442
CREATED:20260304T140641Z
LAST-MODIFIED:20260304T140646Z
UID:4093-1773856800-1773873000@salisburycamra.org.uk
SUMMARY:City Saunter
DESCRIPTION:New Street… \n\n\n\n\n(A) Rai d’Or (N.B. Earlier start as\, those who wish\, can eat before setting off for the Bell & Crown at around 8.00)\n\n\n\n(B) Bell & Crown\n\n\n\n(C) Wig & Quill\n\n\n\n(D) New Inn\n\n\n\n\nTimings are approximate.
URL:https://salisburycamra.org.uk/event/city-saunter-9/
END:VEVENT
BEGIN:VEVENT
DTSTART;TZID=Europe/London:20260415T193000
DTEND;TZID=Europe/London:20260415T223000
DTSTAMP:20260425T153442
CREATED:20260415T145129Z
LAST-MODIFIED:20260415T145403Z
UID:4103-1776281400-1776292200@salisburycamra.org.uk
SUMMARY:City Saunter
DESCRIPTION:Tolgate Road\, Rampart Road & Estcourt Road… \n\n\n\n\n(A) Railway Inn/Dust Hole (7.30)\n\n\n\n(B) Winchester Gate (8.30)\n\n\n\n(C) Wyndham Arms (9.30)\n\n\n\n\nTimings are approximate.
URL:https://salisburycamra.org.uk/event/city-saunter-10/
END:VEVENT
END:VCALENDAR