BEGIN:VCALENDAR
VERSION:2.0
PRODID:-//Salisbury &amp; South Wiltshire CAMRA - ECPv6.15.20//NONSGML v1.0//EN
CALSCALE:GREGORIAN
METHOD:PUBLISH
X-WR-CALNAME:Salisbury &amp; South Wiltshire CAMRA
X-ORIGINAL-URL:https://salisburycamra.org.uk
X-WR-CALDESC:Events for Salisbury &amp; South Wiltshire CAMRA
REFRESH-INTERVAL;VALUE=DURATION:PT1H
X-Robots-Tag:noindex
X-PUBLISHED-TTL:PT1H
BEGIN:VTIMEZONE
TZID:Europe/London
BEGIN:DAYLIGHT
TZOFFSETFROM:+0000
TZOFFSETTO:+0100
TZNAME:BST
DTSTART:20210328T010000
END:DAYLIGHT
BEGIN:STANDARD
TZOFFSETFROM:+0100
TZOFFSETTO:+0000
TZNAME:GMT
DTSTART:20211031T010000
END:STANDARD
BEGIN:DAYLIGHT
TZOFFSETFROM:+0000
TZOFFSETTO:+0100
TZNAME:BST
DTSTART:20220327T010000
END:DAYLIGHT
BEGIN:STANDARD
TZOFFSETFROM:+0100
TZOFFSETTO:+0000
TZNAME:GMT
DTSTART:20221030T010000
END:STANDARD
BEGIN:DAYLIGHT
TZOFFSETFROM:+0000
TZOFFSETTO:+0100
TZNAME:BST
DTSTART:20230326T010000
END:DAYLIGHT
BEGIN:STANDARD
TZOFFSETFROM:+0100
TZOFFSETTO:+0000
TZNAME:GMT
DTSTART:20231029T010000
END:STANDARD
BEGIN:DAYLIGHT
TZOFFSETFROM:+0000
TZOFFSETTO:+0100
TZNAME:BST
DTSTART:20240331T010000
END:DAYLIGHT
BEGIN:STANDARD
TZOFFSETFROM:+0100
TZOFFSETTO:+0000
TZNAME:GMT
DTSTART:20241027T010000
END:STANDARD
END:VTIMEZONE
BEGIN:VEVENT
DTSTART;TZID=Europe/London:20230513T120000
DTEND;TZID=Europe/London:20230513T220000
DTSTAMP:20260423T153921
CREATED:20230420T154303Z
LAST-MODIFIED:20230420T160745Z
UID:3185-1683979200-1684015200@salisburycamra.org.uk
SUMMARY:Fabulous Family Fun Day
DESCRIPTION:The Fabulous Family Fun Day is back at Salisbury Rugby Club and is more exciting than ever. The event now in it’s 9th year is organised each year by Greig Futcher and his family & friends. The Fabulous Family Fun Day\, raises vital funds for Salisbury Hospice in memory of Lyn Futcher. \n\n\n\nFor further details please follow the Fabulous Family Fun Day Facebook Page. \n\n\n\nKindly sponsored by Ozweld International. \n\n\n\n\n\n\n\n\n\n\n\n\nand the beer list: \n\n\n\nBrewer\nBeer\nABV\n\n\nHop Back\nGFB\n3.5\n\n\n \nCitra\n4.2\n\n\n \nSummer Lightning\n5.0\n\n\nDownton\nQuadhop\n3.9\n\n\n \nHoney Blonde\n4.3\n\n\n \nDownton Blonde\n4.8\n\n\nDorset Brewing\nDorset Knob\n3.9\n\n\n \nJurassic\n4.2\n\n\nStonehenge\nPigswill\n4.0\n\n\n \nDanish Dynamite\n5.0\n\n\nTitanic\nSteerage\n3.8\n\n\n \nPlum Porter\n4.9\n\n\nRude Giant\nPale Ale\n3.6\n\n\n \nBest\n4.0\n\n\nPortobello\nWestway\n3.8\n\n\n \nSummer Blonde\n4.2\n\n\n \nStiff Lip\n5.0
URL:https://salisburycamra.org.uk/event/fabulous-family-fun-day/
LOCATION:Salisbury Rugby Football Club\, Castle Road\, Salisbury\, Wiltshire\, SP1 3SA\, United Kingdom
ATTACH;FMTTYPE=image/png:https://salisburycamra.org.uk/wp-content/uploads/2023/04/FFFD-Poster-2023-707x10001-1.png
END:VEVENT
BEGIN:VEVENT
DTSTART;TZID=Europe/London:20230512T183000
DTEND;TZID=Europe/London:20230512T223000
DTSTAMP:20260423T153921
CREATED:20230509T114935Z
LAST-MODIFIED:20230509T114941Z
UID:3192-1683916200-1683930600@salisburycamra.org.uk
SUMMARY:Minibus Trip - South-West
DESCRIPTION:South-West… \n\n\n\n\n(A)   Coach Station\n\n\n\n(B)   Fox & Goose\, Coombe Bisset (RPotY Presentation)\n\n\n\n(C)   Queens Head\, Broadchalke\n\n\n\n(D)   Greater Good\, Fovant\n\n\n\n(E)   Royal Oak\, Swallowcliff\n\n\n\n(F)   Compasses Inn\, Chicksgrove\n\n\n\n\nNames to Bruce please to guarantee your place\, minibus leaves the coach station at 6.30
URL:https://salisburycamra.org.uk/event/minibus-trip-south-west/
LOCATION:Wiltshire
END:VEVENT
BEGIN:VEVENT
DTSTART;TZID=Europe/London:20230419T193000
DTEND;TZID=Europe/London:20230419T230000
DTSTAMP:20260423T153922
CREATED:20230209T082035Z
LAST-MODIFIED:20230209T082041Z
UID:3156-1681932600-1681945200@salisburycamra.org.uk
SUMMARY:City Saunter - City Centre
DESCRIPTION:City Centre… \n\n\n\n\n(A)   Old Ale & Coffee House\n\n\n\n(B)   King’s Head\n\n\n\n(C)   The Mill\n\n\n\n(D)   Sips
URL:https://salisburycamra.org.uk/event/city-saunter-city-centre-3/
LOCATION:Wiltshire
END:VEVENT
BEGIN:VEVENT
DTSTART;TZID=Europe/London:20230414T183000
DTEND;TZID=Europe/London:20230414T230000
DTSTAMP:20260423T153922
CREATED:20230209T081200Z
LAST-MODIFIED:20230209T081203Z
UID:3154-1681497000-1681513200@salisburycamra.org.uk
SUMMARY:Minibus Trip - Out West
DESCRIPTION:Bourne Valley… \n\n\n\n\n(A)   Coach Station\n\n\n\n(B)   Fox & Hounds\, East Knoyle\n\n\n\n(C)   Lamb Inn\, Hindon\n\n\n\n(D)   Beckford Arms\, Fonthill Gifford\n\n\n\n(E)   Black Dog\, Chilmark\n\n\n\n\nNames to Bruce please to guarantee your place\, minibus leaves the coach station at 6.30
URL:https://salisburycamra.org.uk/event/minibus-trip-out-west/
LOCATION:Wiltshire
END:VEVENT
BEGIN:VEVENT
DTSTART;TZID=Europe/London:20230405T193000
DTEND;TZID=Europe/London:20230405T230000
DTSTAMP:20260423T153922
CREATED:20230209T080614Z
LAST-MODIFIED:20230209T080618Z
UID:3152-1680723000-1680735600@salisburycamra.org.uk
SUMMARY:Open Branch Meeting (Ox Row Inn\, Salisbury)
DESCRIPTION:All welcome\, come along and join in.
URL:https://salisburycamra.org.uk/event/open-branch-meeting-ox-row-inn-salisbury/
LOCATION:Wiltshire
END:VEVENT
BEGIN:VEVENT
DTSTART;TZID=Europe/London:20230315T193000
DTEND;TZID=Europe/London:20230315T230000
DTSTAMP:20260423T153922
CREATED:20230206T164722Z
LAST-MODIFIED:20230206T164725Z
UID:3149-1678908600-1678921200@salisburycamra.org.uk
SUMMARY:City Saunter - Market Square
DESCRIPTION:City Centre… \n\n\n\n\n(A)   Market Inn\n\n\n\n(B)   Ox Row Inn\n\n\n\n(C)   Haunch of Venison\n\n\n\n(D)   Boathouse
URL:https://salisburycamra.org.uk/event/city-saunter-market-square/
LOCATION:Wiltshire
END:VEVENT
BEGIN:VEVENT
DTSTART;TZID=Europe/London:20230310T183000
DTEND;TZID=Europe/London:20230310T230000
DTSTAMP:20260423T153922
CREATED:20230206T164222Z
LAST-MODIFIED:20230206T164226Z
UID:3147-1678473000-1678489200@salisburycamra.org.uk
SUMMARY:Minibus Trip - Way up North
DESCRIPTION:Bourne Valley… \n\n\n\n\n(A)   Coach Station\n\n\n\n(B)   Hatchet\, Lower Chute\n\n\n\n(C)   Swan\, Enford\n\n\n\n(D)   Dog & Gun\, Netheravon\n\n\n\n(E)   Stonehenge Inn\, Durrington\n\n\n\n\nNames to Bruce please to guarantee your place\, minibus leaves the coach station at 6.30
URL:https://salisburycamra.org.uk/event/minibus-trip-way-up-north/
LOCATION:Wiltshire
END:VEVENT
BEGIN:VEVENT
DTSTART;TZID=Europe/London:20230301T193000
DTEND;TZID=Europe/London:20230301T230000
DTSTAMP:20260423T153922
CREATED:20230206T114653Z
LAST-MODIFIED:20230209T080353Z
UID:3144-1677699000-1677711600@salisburycamra.org.uk
SUMMARY:Open Branch Meeting (Deacons\, Salisbury)
DESCRIPTION:All welcome\, come along and join in.
URL:https://salisburycamra.org.uk/event/open-branch-meeting-deacons-salisbury/
LOCATION:Wiltshire
END:VEVENT
BEGIN:VEVENT
DTSTART;TZID=Europe/London:20230215T193000
DTEND;TZID=Europe/London:20230215T230000
DTSTAMP:20260423T153922
CREATED:20230206T104252Z
LAST-MODIFIED:20230206T104305Z
UID:3142-1676489400-1676502000@salisburycamra.org.uk
SUMMARY:City Saunter - City Centre
DESCRIPTION:City Centre… \n\n\n\n\n(A)   Royal George\n\n\n\n(B)   Qudos\n\n\n\n(C)   George & Dragon\n\n\n\n(D)   Boathouse
URL:https://salisburycamra.org.uk/event/city-saunter-city-centre-2/
LOCATION:Wiltshire
END:VEVENT
BEGIN:VEVENT
DTSTART;TZID=Europe/London:20230210T183000
DTEND;TZID=Europe/London:20230210T230000
DTSTAMP:20260423T153922
CREATED:20230206T102114Z
LAST-MODIFIED:20230206T102146Z
UID:3140-1676053800-1676070000@salisburycamra.org.uk
SUMMARY:Minibus Trip - Bourne Valley
DESCRIPTION:Bourne Valley… \n\n\n\n\n(A)   Coach Station\n\n\n\n(B)   Crown Inn\, Cholderton\n\n\n\n(C)   Malet Arms\, Newton Tony\n\n\n\n(D)   Earl of Normanton\, Idmiston\n\n\n\n(E)   Winterbourne Arms\, Winterbourne Dauntsey\n\n\n\n\nNames to Bruce please to guarantee your place\, minibus leaves the coach station at 6.30
URL:https://salisburycamra.org.uk/event/minibus-trip-bourne-valley/
LOCATION:Wiltshire
END:VEVENT
BEGIN:VEVENT
DTSTART;TZID=Europe/London:20230128T110000
DTEND;TZID=Europe/London:20230128T200000
DTSTAMP:20260423T153922
CREATED:20221126T111038Z
LAST-MODIFIED:20231110T192138Z
UID:3087-1674903600-1674936000@salisburycamra.org.uk
SUMMARY:Winterfest XXIV (Saturday)
DESCRIPTION:24 cask ales\, 5 real ciders. Food available \n\n\n\n\n\n\n\n\n\n\nBuy Tickets\n\n\n\n\n\nBeer List
URL:https://salisburycamra.org.uk/event/winterfest-xxiv-saturday/
LOCATION:Brown Street\, 29a Brown Street\, Salisbury\, SP1 2AS
END:VEVENT
BEGIN:VEVENT
DTSTART;TZID=Europe/London:20230127T183000
DTEND;TZID=Europe/London:20230127T230000
DTSTAMP:20260423T153922
CREATED:20221126T105839Z
LAST-MODIFIED:20231110T191956Z
UID:3079-1674844200-1674860400@salisburycamra.org.uk
SUMMARY:Winterfest XXIV (Friday)
DESCRIPTION:24 cask ales\, 5 real ciders. Food available \n\n\n\n\n\n\n\n\n\n\nBuy Tickets\n\n\n\n\n\nBeer List
URL:https://salisburycamra.org.uk/event/winterfest-xxiv-friday/
LOCATION:Brown Street\, 29a Brown Street\, Salisbury\, SP1 2AS
CATEGORIES:Beer Festivals
END:VEVENT
BEGIN:VEVENT
DTSTART;TZID=Europe/London:20221207T190000
DTEND;TZID=Europe/London:20221207T220000
DTSTAMP:20260423T153922
CREATED:20221205T190123Z
LAST-MODIFIED:20221205T190131Z
UID:3096-1670439600-1670450400@salisburycamra.org.uk
SUMMARY:Open Branch Meeting (King's Arms\, Salisbury)
DESCRIPTION:All welcome\, come along and join in. Early start to get those Christmas mailout envelops stuffed.
URL:https://salisburycamra.org.uk/event/open-branch-meeting-kings-arms-salisbury/
LOCATION:Wiltshire
END:VEVENT
BEGIN:VEVENT
DTSTART;TZID=Europe/London:20221116T193000
DTEND;TZID=Europe/London:20221116T230000
DTSTAMP:20260423T153922
CREATED:20220824T041714Z
LAST-MODIFIED:20221113T110033Z
UID:3053-1668627000-1668639600@salisburycamra.org.uk
SUMMARY:City Saunter - St. Pauls
DESCRIPTION:City Centre… \n\n\n\n(A)   Devizes Inn(B)   Duke of York(C)   Railway Club(D)   Village Freehouse
URL:https://salisburycamra.org.uk/event/city-saunter-st-pauls/
LOCATION:Wiltshire
END:VEVENT
BEGIN:VEVENT
DTSTART;TZID=Europe/London:20221111T183000
DTEND;TZID=Europe/London:20221111T230000
DTSTAMP:20260423T153922
CREATED:20220824T041157Z
LAST-MODIFIED:20220824T041202Z
UID:3051-1668191400-1668207600@salisburycamra.org.uk
SUMMARY:Minibus Trip - Farley & Winterslow
DESCRIPTION:Farley & Winterslow… \n\n\n\n(A)   Coach Station(B)   Railway Inn/Dust Hole(C)   Hook & Glove\, Farley(D)   Silver Plough\, Pitton\n\n\n\nNames to Bruce please to guarantee your place\, minibus leaves the coach station at 6.30
URL:https://salisburycamra.org.uk/event/minibus-trip-farley-winterslow/
LOCATION:Wiltshire
END:VEVENT
BEGIN:VEVENT
DTSTART;TZID=Europe/London:20221102T193000
DTEND;TZID=Europe/London:20221102T230000
DTSTAMP:20260423T153922
CREATED:20220824T040724Z
LAST-MODIFIED:20220824T040728Z
UID:3049-1667417400-1667430000@salisburycamra.org.uk
SUMMARY:Open Branch Meeting (Wyndham Arms)
DESCRIPTION:All welcome\, come along and join in.
URL:https://salisburycamra.org.uk/event/open-branch-meeting-wyndham-arms-2/
LOCATION:Wiltshire
END:VEVENT
BEGIN:VEVENT
DTSTART;TZID=Europe/London:20221019T193000
DTEND;TZID=Europe/London:20221019T230000
DTSTAMP:20260423T153922
CREATED:20220824T040144Z
LAST-MODIFIED:20220824T040147Z
UID:3047-1666207800-1666220400@salisburycamra.org.uk
SUMMARY:City Saunter - Laverstock
DESCRIPTION:City Centre… \n\n\n\n(A)   Hampton Inn(B)   Laverstock Sports & Social Club(C)   Duck Inn
URL:https://salisburycamra.org.uk/event/city-saunter-laverstock/
LOCATION:Wiltshire
END:VEVENT
BEGIN:VEVENT
DTSTART;TZID=Europe/London:20221014T183000
DTEND;TZID=Europe/London:20221014T230000
DTSTAMP:20260423T153922
CREATED:20220824T035624Z
LAST-MODIFIED:20220824T035626Z
UID:3045-1665772200-1665788400@salisburycamra.org.uk
SUMMARY:Minibus Trip - Chalke Valley
DESCRIPTION:Chalke Valley… \n\n\n\n(A)   Coach Station(B)   Crown\, Alvediston(C)   Horseshoe\, Ebbesbourne Wake(D)   Queen’s Head\, Broadchalke(E)   White Hart\, Bishopstone\n\n\n\nNames to Bruce please to guarantee your place\, minibus leaves the coach station at 6.30
URL:https://salisburycamra.org.uk/event/minibus-trip-chalke-valley/
LOCATION:Wiltshire
END:VEVENT
BEGIN:VEVENT
DTSTART;TZID=Europe/London:20221005T193000
DTEND;TZID=Europe/London:20221005T230000
DTSTAMP:20260423T153922
CREATED:20220824T034723Z
LAST-MODIFIED:20220824T034858Z
UID:3042-1664998200-1665010800@salisburycamra.org.uk
SUMMARY:Open Branch Meeting (Deacons)
DESCRIPTION:All welcome\, come along and join in.
URL:https://salisburycamra.org.uk/event/open-branch-meeting-deacons-2/
LOCATION:Wiltshire
END:VEVENT
BEGIN:VEVENT
DTSTART;TZID=Europe/London:20220921T193000
DTEND;TZID=Europe/London:20220921T230000
DTSTAMP:20260423T153922
CREATED:20220824T034317Z
LAST-MODIFIED:20220824T034323Z
UID:3040-1663788600-1663801200@salisburycamra.org.uk
SUMMARY:City Saunter
DESCRIPTION:City Centre… \n\n\n\n(A)   Chapter House(B)   Red Lion(C)   Cathederal Hotel (if open)(D)   Haunch of Venison
URL:https://salisburycamra.org.uk/event/city-saunter/
LOCATION:Wiltshire
END:VEVENT
BEGIN:VEVENT
DTSTART;TZID=Europe/London:20220916T180000
DTEND;TZID=Europe/London:20220917T230000
DTSTAMP:20260423T153922
CREATED:20220824T042517Z
LAST-MODIFIED:20220824T042520Z
UID:3055-1663351200-1663455600@salisburycamra.org.uk
SUMMARY:Langford Beer Festival
DESCRIPTION:The Langford Beer Festival was started in 2000 to raise money towards\n building a new facility at the Langford Sports & Recreation ground. \n\n\n\nAs well as being used as a pavilion for a range of sporting \nactivities including cricket\, football\, darts and tennis it also has a \nthriving social club attached to it. We are aiming to apply for a range \nof grants from organisations such as the Lottery Fund\, the FA\, the LTA\, \nthe ECB and Sport England to name but a few. \n\n\n\nAll profits from the Beer Festival go towards a fund to develop the  Langford Sports & Community Centre\, a facility enjoyed by the  residents of the Langfords as well as by a variety of sports teams. In  the last few months\, major steps have been taken to move these plans  further forward. Funded by the Langford Beer Festival the ‘Langford  Vision’ was produced for consultation with local residents.
URL:https://salisburycamra.org.uk/event/langford-beer-festival-3/
LOCATION:Wiltshire
CATEGORIES:Beer Festivals
END:VEVENT
BEGIN:VEVENT
DTSTART;TZID=Europe/London:20220909T183000
DTEND;TZID=Europe/London:20220909T230000
DTSTAMP:20260423T153922
CREATED:20220824T034415Z
LAST-MODIFIED:20220824T034427Z
UID:3036-1662748200-1662764400@salisburycamra.org.uk
SUMMARY:Minibus Trip - North-East
DESCRIPTION:The North-East Extremities… \n\n\n\n(A)   Coach Station(B)   Crown\, Ludgershall(C)   Queen’s Head\, Ludgershall(D)   Hatchet\, Chutealso visiting the Fox Inn\, Tangley (N. Hants)\n\n\n\nNames to Bruce please to guarantee your place\, minibus leaves the coach station at 6.30
URL:https://salisburycamra.org.uk/event/minibus-trip-north-east/
LOCATION:Wiltshire
END:VEVENT
BEGIN:VEVENT
DTSTART;TZID=Europe/London:20220907T193000
DTEND;TZID=Europe/London:20220907T230000
DTSTAMP:20260423T153922
CREATED:20220822T201434Z
LAST-MODIFIED:20220823T070150Z
UID:3017-1662579000-1662591600@salisburycamra.org.uk
SUMMARY:Open Branch Meeting (Winchester Gate)
DESCRIPTION:All welcome\, come along and join in.
URL:https://salisburycamra.org.uk/event/open-branch-meeting-winchester-gate-2/
LOCATION:Wiltshire
END:VEVENT
BEGIN:VEVENT
DTSTART;TZID=Europe/London:20220817T193000
DTEND;TZID=Europe/London:20220817T230000
DTSTAMP:20260423T153922
CREATED:20220822T175641Z
LAST-MODIFIED:20220822T181033Z
UID:3012-1660764600-1660777200@salisburycamra.org.uk
SUMMARY:City Crawl - Fisherton Street
DESCRIPTION:Wilton way… \n\n\n\n(A)   Railway Tavern(B)   Deacons(C)   Market Inn(D)   Ox Row Inn
URL:https://salisburycamra.org.uk/event/city-crawl-fisherton-street/
LOCATION:Wiltshire
END:VEVENT
BEGIN:VEVENT
DTSTART;TZID=Europe/London:20220806T123000
DTEND;TZID=Europe/London:20220806T143000
DTSTAMP:20260423T153922
CREATED:20220705T070645Z
LAST-MODIFIED:20220705T071644Z
UID:2978-1659789000-1659796200@salisburycamra.org.uk
SUMMARY:Branch Annual General Meeting
DESCRIPTION:The Salisbury & South Wilts Branch Annual General Meeting will take place on Saturday 6th August commencing at 12:30 PM at Salisbury Rugby Club in Castle Road\, Salisbury. The bar will be available and we hope to provide light refreshments. \n\n\nPlease log in to view further details. \n\n\n \n\n\nUnable to display map... Invalid PubID - 176 (0) match was found.
URL:https://salisburycamra.org.uk/event/branch-annual-general-meeting/
LOCATION:Wiltshire
END:VEVENT
BEGIN:VEVENT
DTSTART;TZID=Europe/London:20220709T183000
DTEND;TZID=Europe/London:20220709T230000
DTSTAMP:20260423T153922
CREATED:20220131T180244Z
LAST-MODIFIED:20220628T164715Z
UID:2831-1657391400-1657407600@salisburycamra.org.uk
SUMMARY:Beerex XL (40)
DESCRIPTION:Beerex is back after an enforced break. More details closer to the time\nProvisional Beer List: \n\n\n\n\n\n\n\n\n\nBrewery\nBeer\nABV\n\n\n4T’s Brewery\nPassion Storm\n4.8%\n\n\nAllsopp\nAllsopp’s Pale Ale\n4.0%\n\n\nBedlam Brewery\nSmash\n4.2%\n\n\nBeowulf\nWulf\n4.3%\n\n\nBirmingham Brewing\nGold Brummie\n5.5%\n\n\nBristol Beer Factory\nFortitude\n4.0%\n\n\nBurning Sky Brewery\nPlateau\n3.5%\n\n\nCairngorm\nTrade Winds\n4.3%\n\n\nCastle Rock\nHarvest Pale\n3.8%\n\n\nCornish Crown\nCauseway\n4.1%\n\n\nDark Revolution\nOrbital\n3.5%\n\n\nDark Revolution\nSo.LA\n4.5%\n\n\nDownton Brewery\nDream A Little Dream\n3.6%\n\n\nDownton Brewery\nMoonstruck\n5.5%\n\n\nDrop The Anchor Brewery\nJester\n4.2%\n\n\nDrop The Anchor Brewery\nMisty Mountain Hop\n3.9%\n\n\nEnville\nEnville Ale\n4.5%\n\n\nEnville\nEnville Ginger\n4.6%\n\n\nFell Brewery\nFlookburgher\n4.8%\n\n\nFixed Wheel\nThrough & Off\n3.8%\n\n\nFyne Ales\nJarl\n3.8%\n\n\nGreen Duck\nDystopia\n4.5%\n\n\nHattie Brown’s\nMustang Sally\n4.3%\n\n\nHoldens\nGolden Glow\n4.4%\n\n\nHop Back\nCitra\n4.0%\n\n\nHop Back\nHop Concerto\n4.5%\n\n\nHop Kettle\nNorth Wall\n4.2%\n\n\nLittle Critters\nWhite Wolf\n5.0%\n\n\nMarble\nPint\n3.9%\n\n\nMillstone\nTiger Rut\n4.0%\n\n\nNomadic Beers\nStrider\n4.4%\n\n\nOakham\nCitra\n4.2%\n\n\nPlain Ales\nIndependence\n4.5%\n\n\nPlain Ales\nSing Strong The Nightingales\n3.9%\n\n\nRed Cat Brewing\nArt of T\n3.6%\n\n\nRed Cat Brewing\nMr. M’s Porter\n4.5%\n\n\nRedemption Brewing Co\nRedemption Pale Ale\n3.8%\n\n\nSalopian\nBreak Point\n4.6%\n\n\nSalopian\nLemon Dream\n4.5%\n\n\nSarah Hughes\nRuby Mild\n6.0%\n\n\nSmall Paul’s Brewery\nBlackberry Mild\n4.1%\n\n\nSquawk\nPAVO\n3.8%\n\n\nStewart Brewing\nPentland IPA\n3.9%\n\n\nStonehenge Ales\nDanish Dynamite\n5.0%\n\n\nStonehenge Ales\nEye Opener\n4.5%\n\n\nThornbridge Brewery\nJaipur\n5.9%\n\n\nThree Sods Brewery\nBoHo\n4.1%\n\n\nThree Tuns Brewery\nXXX\n4.3%\n\n\nTimothy Taylor\nDark Mild\n3.5%\n\n\nTiny Rebel\nCarrot Cake Milkshake\n4.5%\n\n\nTitanic\nPlum Porter\n4.9%\n\n\nUnbarred Brewery\nMorale\n3.9%\n\n\nVibrant Forest Brewery\nMantra\n4.0%\n\n\nVocation Brewery\nChop and Change Mosaic\n4.5%\n\n\nWessex Brewery\nDeveril’s Advocate\n4.5%\n\n\nWriggle Valley\nGolden Bear\n4.0%\n\n\nWriggle Valley\nLiberty Pale\n4.7%
URL:https://salisburycamra.org.uk/event/beerex-xl-40-3/
LOCATION:Salisbury Arts Centre\, Bedwin Street\, Salisbury\, Wiltshire\, SP1 3UT\, United Kingdom
END:VEVENT
BEGIN:VEVENT
DTSTART;TZID=Europe/London:20220709T110000
DTEND;TZID=Europe/London:20220709T153000
DTSTAMP:20260423T153922
CREATED:20220131T180029Z
LAST-MODIFIED:20220630T070812Z
UID:2829-1657364400-1657380600@salisburycamra.org.uk
SUMMARY:Beerex XL (40) Sold Out
DESCRIPTION:Beerex is back after an enforced break. More details closer to the time \nProvisional Beer List:  \n\n\n\n\n\n\n\n\n\nBrewery\nBeer\nABV\n\n\n4T’s Brewery\nPassion Storm\n4.8%\n\n\nAllsopp\nAllsopp’s Pale Ale\n4.0%\n\n\nBedlam Brewery\nSmash\n4.2%\n\n\nBeowulf\nWulf\n4.3%\n\n\nBirmingham Brewing\nGold Brummie\n5.5%\n\n\nBristol Beer Factory\nFortitude\n4.0%\n\n\nBurning Sky Brewery\nPlateau\n3.5%\n\n\nCairngorm\nTrade Winds\n4.3%\n\n\nCastle Rock\nHarvest Pale\n3.8%\n\n\nCornish Crown\nCauseway\n4.1%\n\n\nDark Revolution\nOrbital\n3.5%\n\n\nDark Revolution\nSo.LA\n4.5%\n\n\nDownton Brewery\nDream A Little Dream\n3.6%\n\n\nDownton Brewery\nMoonstruck\n5.5%\n\n\nDrop The Anchor Brewery\nJester\n4.2%\n\n\nDrop The Anchor Brewery\nMisty Mountain Hop\n3.9%\n\n\nEnville\nEnville Ale\n4.5%\n\n\nEnville\nEnville Ginger\n4.6%\n\n\nFell Brewery\nFlookburgher\n4.8%\n\n\nFixed Wheel\nThrough & Off\n3.8%\n\n\nFyne Ales\nJarl\n3.8%\n\n\nGreen Duck\nDystopia\n4.5%\n\n\nHattie Brown’s\nMustang Sally\n4.3%\n\n\nHoldens\nGolden Glow\n4.4%\n\n\nHop Back\nCitra\n4.0%\n\n\nHop Back\nHop Concerto\n4.5%\n\n\nHop Kettle\nNorth Wall\n4.2%\n\n\nLittle Critters\nWhite Wolf\n5.0%\n\n\nMarble\nPint\n3.9%\n\n\nMillstone\nTiger Rut\n4.0%\n\n\nNomadic Beers\nStrider\n4.4%\n\n\nOakham\nCitra\n4.2%\n\n\nPlain Ales\nIndependence\n4.5%\n\n\nPlain Ales\nSing Strong The Nightingales\n3.9%\n\n\nRed Cat Brewing\nArt of T\n3.6%\n\n\nRed Cat Brewing\nMr. M’s Porter\n4.5%\n\n\nRedemption Brewing Co\nRedemption Pale Ale\n3.8%\n\n\nSalopian\nBreak Point\n4.6%\n\n\nSalopian\nLemon Dream\n4.5%\n\n\nSarah Hughes\nRuby Mild\n6.0%\n\n\nSmall Paul’s Brewery\nBlackberry Mild\n4.1%\n\n\nSquawk\nPAVO\n3.8%\n\n\nStewart Brewing\nPentland IPA\n3.9%\n\n\nStonehenge Ales\nDanish Dynamite\n5.0%\n\n\nStonehenge Ales\nEye Opener\n4.5%\n\n\nThornbridge Brewery\nJaipur\n5.9%\n\n\nThree Sods Brewery\nBoHo\n4.1%\n\n\nThree Tuns Brewery\nXXX\n4.3%\n\n\nTimothy Taylor\nDark Mild\n3.5%\n\n\nTiny Rebel\nCarrot Cake Milkshake\n4.5%\n\n\nTitanic\nPlum Porter\n4.9%\n\n\nUnbarred Brewery\nMorale\n3.9%\n\n\nVibrant Forest Brewery\nMantra\n4.0%\n\n\nVocation Brewery\nChop and Change Mosaic\n4.5%\n\n\nWessex Brewery\nDeveril’s Advocate\n4.5%\n\n\nWriggle Valley\nGolden Bear\n4.0%\n\n\nWriggle Valley\nLiberty Pale\n4.7%
URL:https://salisburycamra.org.uk/event/beerex-xl-40-2/
LOCATION:Salisbury Arts Centre\, Bedwin Street\, Salisbury\, Wiltshire\, SP1 3UT\, United Kingdom
END:VEVENT
BEGIN:VEVENT
DTSTART;TZID=Europe/London:20220708T183000
DTEND;TZID=Europe/London:20220708T230000
DTSTAMP:20260423T153922
CREATED:20220131T175721Z
LAST-MODIFIED:20220628T163837Z
UID:2827-1657305000-1657321200@salisburycamra.org.uk
SUMMARY:Beerex XL (40)
DESCRIPTION:Beerex is back after an enforced break. More details closer to the time \n\n\n\nProvisional Beer List \n\n\n\n\n\n\n\n\n\nBrewery\nBeer\nABV\n\n\n4T’s Brewery\nPassion Storm\n4.8%\n\n\nAllsopp\nAllsopp’s Pale Ale\n4.0%\n\n\nBedlam Brewery\nSmash\n4.2%\n\n\nBeowulf\nWulf\n4.3%\n\n\nBirmingham Brewing\nGold Brummie\n5.5%\n\n\nBristol Beer Factory\nFortitude\n4.0%\n\n\nBurning Sky Brewery\nPlateau\n3.5%\n\n\nCairngorm\nTrade Winds\n4.3%\n\n\nCastle Rock\nHarvest Pale\n3.8%\n\n\nCornish Crown\nCauseway\n4.1%\n\n\nDark Revolution\nOrbital\n3.5%\n\n\nDark Revolution\nSo.LA\n4.5%\n\n\nDownton Brewery\nDream A Little Dream\n3.6%\n\n\nDownton Brewery\nMoonstruck\n5.5%\n\n\nDrop The Anchor Brewery\nJester\n4.2%\n\n\nDrop The Anchor Brewery\nMisty Mountain Hop\n3.9%\n\n\nEnville\nEnville Ale\n4.5%\n\n\nEnville\nEnville Ginger\n4.6%\n\n\nFell Brewery\nFlookburgher\n4.8%\n\n\nFixed Wheel\nThrough & Off\n3.8%\n\n\nFyne Ales\nJarl\n3.8%\n\n\nGreen Duck\nDystopia\n4.5%\n\n\nHattie Brown’s\nMustang Sally\n4.3%\n\n\nHoldens\nGolden Glow\n4.4%\n\n\nHop Back\nCitra\n4.0%\n\n\nHop Back\nHop Concerto\n4.5%\n\n\nHop Kettle\nNorth Wall\n4.2%\n\n\nLittle Critters\nWhite Wolf\n5.0%\n\n\nMarble\nPint\n3.9%\n\n\nMillstone\nTiger Rut\n4.0%\n\n\nNomadic Beers\nStrider\n4.4%\n\n\nOakham\nCitra\n4.2%\n\n\nPlain Ales\nIndependence\n4.5%\n\n\nPlain Ales\nSing Strong The Nightingales\n3.9%\n\n\nRed Cat Brewing\nArt of T\n3.6%\n\n\nRed Cat Brewing\nMr. M’s Porter\n4.5%\n\n\nRedemption Brewing Co\nRedemption Pale Ale\n3.8%\n\n\nSalopian\nBreak Point\n4.6%\n\n\nSalopian\nLemon Dream\n4.5%\n\n\nSarah Hughes\nRuby Mild\n6.0%\n\n\nSmall Paul’s Brewery\nBlackberry Mild\n4.1%\n\n\nSquawk\nPAVO\n3.8%\n\n\nStewart Brewing\nPentland IPA\n3.9%\n\n\nStonehenge Ales\nDanish Dynamite\n5.0%\n\n\nStonehenge Ales\nEye Opener\n4.5%\n\n\nThornbridge Brewery\nJaipur\n5.9%\n\n\nThree Sods Brewery\nBoHo\n4.1%\n\n\nThree Tuns Brewery\nXXX\n4.3%\n\n\nTimothy Taylor\nDark Mild\n3.5%\n\n\nTiny Rebel\nCarrot Cake Milkshake\n4.5%\n\n\nTitanic\nPlum Porter\n4.9%\n\n\nUnbarred Brewery\nMorale\n3.9%\n\n\nVibrant Forest Brewery\nMantra\n4.0%\n\n\nVocation Brewery\nChop and Change Mosaic\n4.5%\n\n\nWessex Brewery\nDeveril’s Advocate\n4.5%\n\n\nWriggle Valley\nGolden Bear\n4.0%\n\n\nWriggle Valley\nLiberty Pale\n4.7%
URL:https://salisburycamra.org.uk/event/beerex-xl-40/
LOCATION:Salisbury Arts Centre\, Bedwin Street\, Salisbury\, Wiltshire\, SP1 3UT\, United Kingdom
END:VEVENT
BEGIN:VEVENT
DTSTART;TZID=Europe/London:20220706T193000
DTEND;TZID=Europe/London:20220706T220000
DTSTAMP:20260423T153922
CREATED:20220628T063944Z
LAST-MODIFIED:20220628T063958Z
UID:2959-1657135800-1657144800@salisburycamra.org.uk
SUMMARY:Open Branch Meeting (Royal George\, Salisbury)
DESCRIPTION:All welcome\, come along and join in. \n\n\nUnable to display map... Invalid PubID - 121 (0) match was found.
URL:https://salisburycamra.org.uk/event/open-branch-meeting-royal-george-salisbury/
LOCATION:Wiltshire
END:VEVENT
BEGIN:VEVENT
DTSTART;TZID=Europe/London:20220610T183000
DTEND;TZID=Europe/London:20220610T230000
DTSTAMP:20260423T153922
CREATED:20220513T154657Z
LAST-MODIFIED:20220603T094718Z
UID:2936-1654885800-1654902000@salisburycamra.org.uk
SUMMARY:Minibus Trip (Tisbury Way) Cancelled
DESCRIPTION:Wilton way… \n\n\n\n(A)   Coach Station(B)   Penruddocke Arms\, Dinton(C)   Wyndham Arms\, Dinton(D)   Black Dog\, Chilmark(E)   Compasses\, Chicksgrove(F)   Greater Good\, Fovant\n\n\n\nNames to Bruce please to guarantee your place\, minibus leaves the coach station at 6.30
URL:https://salisburycamra.org.uk/event/minibus-trip-tisbury-way/
LOCATION:Wiltshire
END:VEVENT
END:VCALENDAR