BEGIN:VCALENDAR
VERSION:2.0
PRODID:-//Salisbury &amp; South Wiltshire CAMRA - ECPv6.15.20//NONSGML v1.0//EN
CALSCALE:GREGORIAN
METHOD:PUBLISH
X-WR-CALNAME:Salisbury &amp; South Wiltshire CAMRA
X-ORIGINAL-URL:https://salisburycamra.org.uk
X-WR-CALDESC:Events for Salisbury &amp; South Wiltshire CAMRA
REFRESH-INTERVAL;VALUE=DURATION:PT1H
X-Robots-Tag:noindex
X-PUBLISHED-TTL:PT1H
BEGIN:VTIMEZONE
TZID:Europe/London
BEGIN:DAYLIGHT
TZOFFSETFROM:+0000
TZOFFSETTO:+0100
TZNAME:BST
DTSTART:20180325T010000
END:DAYLIGHT
BEGIN:STANDARD
TZOFFSETFROM:+0100
TZOFFSETTO:+0000
TZNAME:GMT
DTSTART:20181028T010000
END:STANDARD
BEGIN:DAYLIGHT
TZOFFSETFROM:+0000
TZOFFSETTO:+0100
TZNAME:BST
DTSTART:20190331T010000
END:DAYLIGHT
BEGIN:STANDARD
TZOFFSETFROM:+0100
TZOFFSETTO:+0000
TZNAME:GMT
DTSTART:20191027T010000
END:STANDARD
BEGIN:DAYLIGHT
TZOFFSETFROM:+0000
TZOFFSETTO:+0100
TZNAME:BST
DTSTART:20200329T010000
END:DAYLIGHT
BEGIN:STANDARD
TZOFFSETFROM:+0100
TZOFFSETTO:+0000
TZNAME:GMT
DTSTART:20201025T010000
END:STANDARD
END:VTIMEZONE
BEGIN:VEVENT
DTSTART;TZID=Europe/London:20190717T190000
DTEND;TZID=Europe/London:20190717T223000
DTSTAMP:20260424T060325
CREATED:20190712T072135Z
LAST-MODIFIED:20190712T072138Z
UID:802-1563390000-1563402600@salisburycamra.org.uk
SUMMARY:Tisbury Toddle
DESCRIPTION:Catching the 7.25 train from Salisbury to Tisbury. \n\n\n\nSouth Western Hotel (If open)Benett ArmsBoot Inn
URL:https://salisburycamra.org.uk/event/tisbury-toddle/
ORGANIZER;CN="Mike Gurd":MAILTO:social.secretary@salisburycamra.org.uk
END:VEVENT
BEGIN:VEVENT
DTSTART;TZID=Europe/London:20190713T140000
DTEND;TZID=Europe/London:20190713T160000
DTSTAMP:20260424T060325
CREATED:20190620T164404Z
LAST-MODIFIED:20190620T164407Z
UID:764-1563026400-1563033600@salisburycamra.org.uk
SUMMARY:Annual General Meeting
DESCRIPTION:AGM is restricted to CAMRA members. Please try to come along and see what’s going on. There could even be an opportunity to help with running the branch.
URL:https://salisburycamra.org.uk/event/annual-general-meeting/
LOCATION:Bell & Crown\, 83 Catherine St.\, Salisbury\, Wiltshire\, United Kingdom
ORGANIZER;CN="Ian Turner":MAILTO:ian.turner@salisburycamra.org.uk
END:VEVENT
BEGIN:VEVENT
DTSTART;TZID=Europe/London:20190628T190000
DTEND;TZID=Europe/London:20190628T230000
DTSTAMP:20260424T060325
CREATED:20190620T163802Z
LAST-MODIFIED:20190620T163805Z
UID:762-1561748400-1561762800@salisburycamra.org.uk
SUMMARY:Minibus Trip - North of Amesbury
DESCRIPTION:Old Police Station pick up at 6.45 \n\n\n\n7.00 form the Coach Station \n\n\n\n\n\nStonehenge Inn\, DurringtonDog & Gun\, NetheravonSwan\, EnfordRed Lion\, East Chisenbury
URL:https://salisburycamra.org.uk/event/minibus-trip-north-of-amesbury/
ORGANIZER;CN="Mike Gurd":MAILTO:social.secretary@salisburycamra.org.uk
END:VEVENT
BEGIN:VEVENT
DTSTART;TZID=Europe/London:20190614T183000
DTEND;TZID=Europe/London:20190615T230000
DTSTAMP:20260424T060325
CREATED:20190414T073703Z
LAST-MODIFIED:20190523T072507Z
UID:253-1560537000-1560639600@salisburycamra.org.uk
SUMMARY:Beerex XXXIX
DESCRIPTION:
URL:https://salisburycamra.org.uk/event/beerex-xxxix/
LOCATION:Salisbury Arts Centre\, Bedwin Street\, Salisbury\, Wiltshire\, SP1 3UT\, United Kingdom
CATEGORIES:Beer Festivals
ORGANIZER;CN="Hilary Bird":MAILTO:beerex@salisburycamra.org.uk
END:VEVENT
BEGIN:VEVENT
DTSTART;TZID=Europe/London:20190605T200000
DTEND;TZID=Europe/London:20190605T220000
DTSTAMP:20260424T060325
CREATED:20190530T071846Z
LAST-MODIFIED:20190530T071849Z
UID:672-1559764800-1559772000@salisburycamra.org.uk
SUMMARY:Open Branch Meeting
DESCRIPTION:Agenda\n\n\n\nApologies:   Chris HMatters arising from the minutesMatters Arising from Officers ReportsCampaigning Issues – Pub updates BeerexReport of the GBG Subcommittee\n\n\n\n\n\n\n\n\n\n\n\n\n\n\n\nAOB              
URL:https://salisburycamra.org.uk/event/open-branch-meeting-3/
LOCATION:Winchester Gate\, Rampart Road\, Salisbury\, SP1 1JA\, United Kingdom
ORGANIZER;CN="Ian Turner":MAILTO:ian.turner@salisburycamra.org.uk
END:VEVENT
BEGIN:VEVENT
DTSTART;TZID=Europe/London:20190531T190000
DTEND;TZID=Europe/London:20190531T230000
DTSTAMP:20260424T060325
CREATED:20190530T083008Z
LAST-MODIFIED:20190530T083012Z
UID:677-1559329200-1559343600@salisburycamra.org.uk
SUMMARY:Minibus Trip
DESCRIPTION:Old Police Station pick up at 6.45 \n\n\n\n7.00 form the Coach Station \n\n\n\n\n\nShip\, Burcombe (if open)Greater Good\, FovantCompasses\, ChicksgroveRoyal Oak\, Great Wishford
URL:https://salisburycamra.org.uk/event/minibus-trip/
ORGANIZER;CN="Mike Gurd":MAILTO:social.secretary@salisburycamra.org.uk
END:VEVENT
BEGIN:VEVENT
DTSTART;TZID=Europe/London:20190515T200000
DTEND;TZID=Europe/London:20190515T223000
DTSTAMP:20260424T060325
CREATED:20190501T143652Z
LAST-MODIFIED:20190501T170855Z
UID:631-1557950400-1557959400@salisburycamra.org.uk
SUMMARY:Harnham Hobble
DESCRIPTION:Grey Fisher\, Rose & Crown\, Old Mill & Harnham Community Club
URL:https://salisburycamra.org.uk/event/city-saunter-2/
ORGANIZER;CN="Ian Turner":MAILTO:ian.turner@salisburycamra.org.uk
END:VEVENT
BEGIN:VEVENT
DTSTART;TZID=Europe/London:20190501T200000
DTEND;TZID=Europe/London:20190501T220000
DTSTAMP:20260424T060325
CREATED:20190417T132157Z
LAST-MODIFIED:20190428T081716Z
UID:288-1556740800-1556748000@salisburycamra.org.uk
SUMMARY:Open Branch Meeting
DESCRIPTION:Agenda \n\n\n\nApologies: Chris H.Matters arising from the minutesMatters Arising from Officers ReportsCampaigning Issues – Pub updatesPreliminary report of the GBG Subcommittee AOB                                      
URL:https://salisburycamra.org.uk/event/open-branch-meeting-2/
LOCATION:New Inn\, Amesbury\, High Street\, Amesbury\, United Kingdom
ORGANIZER;CN="Ian Turner":MAILTO:ian.turner@salisburycamra.org.uk
END:VEVENT
BEGIN:VEVENT
DTSTART;TZID=Europe/London:20190428T200000
DTEND;TZID=Europe/London:20190428T210000
DTSTAMP:20260424T060325
CREATED:20190428T085859Z
LAST-MODIFIED:20190428T090114Z
UID:572-1556481600-1556485200@salisburycamra.org.uk
SUMMARY:TV Time
DESCRIPTION:TV Time
URL:https://salisburycamra.org.uk/event/tv-time/
LOCATION:Home\, United States
ORGANIZER;CN="Ian Turner":MAILTO:ian.turner@salisburycamra.org.uk
END:VEVENT
BEGIN:VEVENT
DTSTART;TZID=Europe/London:20190428T170000
DTEND;TZID=Europe/London:20190428T183000
DTSTAMP:20260424T060325
CREATED:20190425T103631Z
LAST-MODIFIED:20190425T103633Z
UID:499-1556470800-1556476200@salisburycamra.org.uk
SUMMARY:Retiring
DESCRIPTION:Enough
URL:https://salisburycamra.org.uk/event/retiring/
ORGANIZER;CN="Ian Turner":MAILTO:ian.turner@salisburycamra.org.uk
END:VEVENT
BEGIN:VEVENT
DTSTART;TZID=Europe/London:20190428T150000
DTEND;TZID=Europe/London:20190428T170000
DTSTAMP:20260424T060325
CREATED:20190425T103331Z
LAST-MODIFIED:20190425T103334Z
UID:497-1556463600-1556470800@salisburycamra.org.uk
SUMMARY:After Dinner Drinks
DESCRIPTION:More beer.
URL:https://salisburycamra.org.uk/event/after-dinner-drinks/
ORGANIZER;CN="Ian Turner":MAILTO:ian.turner@salisburycamra.org.uk
END:VEVENT
BEGIN:VEVENT
DTSTART;TZID=Europe/London:20190428T133000
DTEND;TZID=Europe/London:20190428T150000
DTSTAMP:20260424T060325
CREATED:20190425T100030Z
LAST-MODIFIED:20190428T082535Z
UID:493-1556458200-1556463600@salisburycamra.org.uk
SUMMARY:Sunday Lunch
DESCRIPTION:Sunday lunch
URL:https://salisburycamra.org.uk/event/sunday-lunch/
CATEGORIES:Branch Events,Crawls (sic)
ORGANIZER;CN="Ian Turner":MAILTO:ian.turner@salisburycamra.org.uk
END:VEVENT
BEGIN:VEVENT
DTSTART;TZID=Europe/London:20190428T080000
DTEND;TZID=Europe/London:20190428T170000
DTSTAMP:20260424T060325
CREATED:20190429T013852Z
LAST-MODIFIED:20190429T174205Z
UID:583-1556438400-1556470800@salisburycamra.org.uk
SUMMARY:test event
DESCRIPTION:test asdfasd test
URL:https://salisburycamra.org.uk/event/test-event/
LOCATION:Time square NYC\, Time Square\, New York\, New York\, 11218\, United States
END:VEVENT
BEGIN:VEVENT
DTSTART;TZID=Europe/London:20190427T080000
DTEND;TZID=Europe/London:20190427T170000
DTSTAMP:20260424T060325
CREATED:20190426T201210Z
LAST-MODIFIED:20190427T232711Z
UID:526-1556352000-1556384400@salisburycamra.org.uk
SUMMARY:test
DESCRIPTION:test asdfasdf
URL:https://salisburycamra.org.uk/event/test43/
CATEGORIES:Beer Festivals
ATTACH;FMTTYPE=image/png:https://salisburycamra.org.uk/wp-content/uploads/2019/04/YahooGroups.png
END:VEVENT
BEGIN:VEVENT
DTSTART;TZID=Europe/London:20190426T190000
DTEND;TZID=Europe/London:20190426T230000
DTSTAMP:20260424T060325
CREATED:20190411T160945Z
LAST-MODIFIED:20190414T064241Z
UID:198-1556305200-1556319600@salisburycamra.org.uk
SUMMARY:Minibus Trip - Alvediston
DESCRIPTION:6.46 pick up at Salisbury University. White Horse\, Quidhampton; Queen’s Head\, Broadchalke\, Crown\, Alvediston and Horseshoe\, Ebbesbourne Wake. We will be presenting a certificate to Tony for Country Pub of the Year.
URL:https://salisburycamra.org.uk/event/minibus-trip-alvediston/
ORGANIZER;CN="Mike Gurd":MAILTO:social.secretary@salisburycamra.org.uk
END:VEVENT
BEGIN:VEVENT
DTSTART;TZID=Europe/London:20190417T200000
DTEND;TZID=Europe/London:20190417T223000
DTSTAMP:20260424T060325
CREATED:20190407T071124Z
LAST-MODIFIED:20190422T120521Z
UID:57-1555531200-1555540200@salisburycamra.org.uk
SUMMARY:Laverstoke Lope
DESCRIPTION:Hamptworth InnLaverstock ClubDuck Inn \n7.55 R2 bus from Blue Boar Row stand M. \n\n\n\n\n\n\n\nBO1902
URL:https://salisburycamra.org.uk/event/laverstoke-lope/
LOCATION:Laverstock\, Duck Lane\, Laverstock
ORGANIZER;CN="Ian Turner":MAILTO:ian.turner@salisburycamra.org.uk
END:VEVENT
BEGIN:VEVENT
DTSTART;TZID=Europe/London:20190403T200000
DTEND;TZID=Europe/London:20190403T220000
DTSTAMP:20260424T060325
CREATED:20190406T103036Z
LAST-MODIFIED:20190425T101431Z
UID:16-1554321600-1554328800@salisburycamra.org.uk
SUMMARY:Open Branch Meeting
DESCRIPTION:Open branch meeting to discuss business and enjoy a pint or two. \n  \n  \n 
URL:https://salisburycamra.org.uk/event/open-branch-meeting/
LOCATION:George & Dragon\, Castle St.\, Salisbury
ORGANIZER;CN="Ian Turner":MAILTO:ian.turner@salisburycamra.org.uk
END:VEVENT
END:VCALENDAR