BEGIN:VCALENDAR
VERSION:2.0
PRODID:-//Salisbury &amp; South Wiltshire CAMRA - ECPv6.15.20//NONSGML v1.0//EN
CALSCALE:GREGORIAN
METHOD:PUBLISH
X-WR-CALNAME:Salisbury &amp; South Wiltshire CAMRA
X-ORIGINAL-URL:https://salisburycamra.org.uk
X-WR-CALDESC:Events for Salisbury &amp; South Wiltshire CAMRA
REFRESH-INTERVAL;VALUE=DURATION:PT1H
X-Robots-Tag:noindex
X-PUBLISHED-TTL:PT1H
BEGIN:VTIMEZONE
TZID:Europe/London
BEGIN:DAYLIGHT
TZOFFSETFROM:+0000
TZOFFSETTO:+0100
TZNAME:BST
DTSTART:20230326T010000
END:DAYLIGHT
BEGIN:STANDARD
TZOFFSETFROM:+0100
TZOFFSETTO:+0000
TZNAME:GMT
DTSTART:20231029T010000
END:STANDARD
BEGIN:DAYLIGHT
TZOFFSETFROM:+0000
TZOFFSETTO:+0100
TZNAME:BST
DTSTART:20240331T010000
END:DAYLIGHT
BEGIN:STANDARD
TZOFFSETFROM:+0100
TZOFFSETTO:+0000
TZNAME:GMT
DTSTART:20241027T010000
END:STANDARD
BEGIN:DAYLIGHT
TZOFFSETFROM:+0000
TZOFFSETTO:+0100
TZNAME:BST
DTSTART:20250330T010000
END:DAYLIGHT
BEGIN:STANDARD
TZOFFSETFROM:+0100
TZOFFSETTO:+0000
TZNAME:GMT
DTSTART:20251026T010000
END:STANDARD
BEGIN:DAYLIGHT
TZOFFSETFROM:+0000
TZOFFSETTO:+0100
TZNAME:BST
DTSTART:20260329T010000
END:DAYLIGHT
BEGIN:STANDARD
TZOFFSETFROM:+0100
TZOFFSETTO:+0000
TZNAME:GMT
DTSTART:20261025T010000
END:STANDARD
END:VTIMEZONE
BEGIN:VEVENT
DTSTART;TZID=Europe/London:20250516T190000
DTEND;TZID=Europe/London:20250516T230000
DTSTAMP:20260422T230205
CREATED:20250406T121714Z
LAST-MODIFIED:20250504T090712Z
UID:3821-1747422000-1747436400@salisburycamra.org.uk
SUMMARY:Minibus Trip (Out West)
DESCRIPTION:Chilmark\, Hindon\, Tisbury & Fovant \n\n\n\nN.B. Minibus will depart from the coach station. Also\, note later start time of 7.00. \n\n\n\nNames to Andrew please to guarantee your place \n\n\n\n\n(A) Coach Station\n\n\n\n(B) Black Dog\, Chilmark\n\n\n\n(C) The Lamb\, Hindon\n\n\n\n(D) Boot Inn\, Tisbury\n\n\n\n(E) Greater Good\, Fovant
URL:https://salisburycamra.org.uk/event/minibus-trip-out-west-2/
LOCATION:Wiltshire
END:VEVENT
BEGIN:VEVENT
DTSTART;TZID=Europe/London:20250510T114000
DTEND;TZID=Europe/London:20250510T170000
DTSTAMP:20260422T230205
CREATED:20250504T091529Z
LAST-MODIFIED:20250504T091534Z
UID:3831-1746877200-1746896400@salisburycamra.org.uk
SUMMARY:Bus Social - Romsey
DESCRIPTION:Bus Trip to Romsey – starting at 11:40 Bus X7R stand D Endless St. \n\n\n\nTrip to include to Flack Manor taproom.
URL:https://salisburycamra.org.uk/event/bus-social-romsey-2/
LOCATION:Wiltshire
END:VEVENT
BEGIN:VEVENT
DTSTART;TZID=Europe/London:20250507T193000
DTEND;TZID=Europe/London:20250507T220000
DTSTAMP:20260422T230205
CREATED:20250504T090059Z
LAST-MODIFIED:20250504T090106Z
UID:3827-1746646200-1746655200@salisburycamra.org.uk
SUMMARY:Open Branch Meeting - Wyndham Arms\, Salisbury
DESCRIPTION:All welcome\, come along and join in.
URL:https://salisburycamra.org.uk/event/open-branch-meeting-wyndham-arms-salisbury-2/
LOCATION:Wiltshire
END:VEVENT
BEGIN:VEVENT
DTSTART;TZID=Europe/London:20250319T193000
DTEND;TZID=Europe/London:20250319T223000
DTSTAMP:20260422T230205
CREATED:20250305T170538Z
LAST-MODIFIED:20250305T170544Z
UID:3746-1742412600-1742423400@salisburycamra.org.uk
SUMMARY:City Saunter - City Centre
DESCRIPTION:Market Square… \n\n\n\n\n(A) Five Bells\n\n\n\n(B) Pheasant\n\n\n\n(C) Royal Gearge\n\n\n\n(D) George & Dragon
URL:https://salisburycamra.org.uk/event/city-saunter-city-centre-5/
LOCATION:Wiltshire
END:VEVENT
BEGIN:VEVENT
DTSTART;TZID=Europe/London:20250314T190000
DTEND;TZID=Europe/London:20250314T230000
DTSTAMP:20260422T230205
CREATED:20250305T165401Z
LAST-MODIFIED:20250308T104649Z
UID:3744-1741978800-1741993200@salisburycamra.org.uk
SUMMARY:Minibus Trip - Bourne Valley
DESCRIPTION:Winterbourne Dauntsey\, Idmiston\, Newton Tony\, Laverstock \n\n\n\nN.B. Minibus will depart from the coach station. Also\, note later start time of 7.00. \n\n\n\nNames to Andrew please to guarantee your place \n\n\n\n\n(A) Coach Station\n\n\n\n(B) Winterbourne Arms\, Winterbourne Dauntsey\n\n\n\n(C) Earl of Normanton\, Idmiston\n\n\n\n(D) Malet\, Newton Tony\n\n\n\n(E) Duck\, Laverstock
URL:https://salisburycamra.org.uk/event/minibus-trip-bourne-valley-2/
LOCATION:Wiltshire
END:VEVENT
BEGIN:VEVENT
DTSTART;TZID=Europe/London:20250308T115000
DTEND;TZID=Europe/London:20250308T163000
DTSTAMP:20260422T230205
CREATED:20250305T170036Z
LAST-MODIFIED:20250305T170040Z
UID:3739-1741434600-1741451400@salisburycamra.org.uk
SUMMARY:Bus Social - 29 Bus
DESCRIPTION:Salisbury to Bishopstone: White Hart and Berwick St John: Talbot Inn \n\n\n\nSalisbury 11:50 Bus 29 stand N – Bishopstone White Hart arr. 12:20 \n\n\n\nBishopstone White Hart dep. 13:50 – Berwick St John: Talbot Inn arr 14:28 \n\n\n\nBerwick St John: Talbot Inn dep 15:26 – Salisbury 16:16 \n\n\n\nFood available at both\, but only 12-14:30 at White Hart I understand both pubs are Dog friendly.
URL:https://salisburycamra.org.uk/event/bus-social-29-bus/
LOCATION:Wiltshire
END:VEVENT
BEGIN:VEVENT
DTSTART;TZID=Europe/London:20250305T193000
DTEND;TZID=Europe/London:20250305T213000
DTSTAMP:20260422T230205
CREATED:20250305T092656Z
LAST-MODIFIED:20250305T092805Z
UID:3731-1741203000-1741210200@salisburycamra.org.uk
SUMMARY:Open Branch Meeting: Pheasant\, Salisbury
DESCRIPTION:All welcome\, come along and join in.
URL:https://salisburycamra.org.uk/event/open-branch-meeting-30/
LOCATION:Wiltshire
END:VEVENT
BEGIN:VEVENT
DTSTART;TZID=Europe/London:20250221T190000
DTEND;TZID=Europe/London:20250221T230000
DTSTAMP:20260422T230205
CREATED:20250127T190228Z
LAST-MODIFIED:20250305T164121Z
UID:3710-1740164400-1740178800@salisburycamra.org.uk
SUMMARY:Minibus Trip - Out West
DESCRIPTION:Stoford\, Stapleford\, Steeple Langford & Berwick St. James \n\n\n\nN.B. Minibus will depart from the coach station. Also\, note later start time of 7.00. \n\n\n\nNames to Andrew please to guarantee your place \n\n\n\n\n(A) Coach Station\n\n\n\n(B) Swan\, Stoford\n\n\n\n(C) Pelican\, Stapleford\n\n\n\n(D) Rainbow on the Lake\, Langford\n\n\n\n(E) Boot\, Berwick St. James
URL:https://salisburycamra.org.uk/event/minibus-tip-out-west/
LOCATION:Wiltshire
END:VEVENT
BEGIN:VEVENT
DTSTART;TZID=Europe/London:20250212T193000
DTEND;TZID=Europe/London:20250212T230000
DTSTAMP:20260422T230205
CREATED:20250127T184614Z
LAST-MODIFIED:20250127T184910Z
UID:3706-1739388600-1739401200@salisburycamra.org.uk
SUMMARY:City Saunter - Market Square
DESCRIPTION:Market Square… \n\n\n\n\n(A) Ox Row Inn\n\n\n\n(B) Market Tavern\n\n\n\n(C) Haunch of Venison
URL:https://salisburycamra.org.uk/event/city-saunter-market-square-3/
LOCATION:Wiltshire
END:VEVENT
BEGIN:VEVENT
DTSTART;TZID=Europe/London:20250208T110000
DTEND;TZID=Europe/London:20250208T170000
DTSTAMP:20260422T230205
CREATED:20250127T183611Z
LAST-MODIFIED:20250127T183620Z
UID:3704-1739012400-1739034000@salisburycamra.org.uk
SUMMARY:Bus Social - Romsey
DESCRIPTION:Romsey… contact: ptc@salisburycamra.org.uk
URL:https://salisburycamra.org.uk/event/bus-social-romsey/
LOCATION:Wiltshire
END:VEVENT
BEGIN:VEVENT
DTSTART;TZID=Europe/London:20250205T193000
DTEND;TZID=Europe/London:20250205T220000
DTSTAMP:20260422T230205
CREATED:20250127T181653Z
LAST-MODIFIED:20250127T181659Z
UID:3702-1738783800-1738792800@salisburycamra.org.uk
SUMMARY:Open Branch Meeting
DESCRIPTION:All welcome\, come along and join in.
URL:https://salisburycamra.org.uk/event/open-branch-meeting-29/
LOCATION:Wiltshire
END:VEVENT
BEGIN:VEVENT
DTSTART;TZID=Europe/London:20250124T183000
DTEND;TZID=Europe/London:20250125T200000
DTSTAMP:20260422T230205
CREATED:20241129T092003Z
LAST-MODIFIED:20250117T110454Z
UID:3656-1737743400-1737835200@salisburycamra.org.uk
SUMMARY:Winterfest XXVI (2025)
DESCRIPTION:Sessions on Friday 6.30 – 11 and Saturday 11.00 – 8 \n\n\n\n24 cask ales\, 5 real ciders and perries. \n\n\n\n£10.00 Per session. Ticket includes glass and souvenir programme. Card-carrying CAMRA members get 1/2 pint free. Tickets sales on-line only from 1st December. We do not charge a booking fee! \n\n\n\n\n\n\n\n\nBuy Tickets\n\n\n\n\n\nFurther Details
URL:https://salisburycamra.org.uk/event/winterfest-xxvi-2025/
LOCATION:Salisbury Guildhall\, Market Place\, Salisbury\, Wiltshire\, SP1 1JH\, United Kingdom
END:VEVENT
BEGIN:VEVENT
DTSTART;TZID=Europe/London:20250118T105500
DTEND;TZID=Europe/London:20250118T183000
DTSTAMP:20260422T230205
CREATED:20250102T174812Z
LAST-MODIFIED:20250102T174838Z
UID:3680-1737197700-1737225000@salisburycamra.org.uk
SUMMARY:Bus Social - Pewsey
DESCRIPTION:Pewsey…Bus Social Saturday 18 januaryBus trip to Pewsey – Organiser Pete MatthewsIf you can\, please inform ptc@salisburycamra.org.uk if you intend to go.Depart Salisbury Blue Boar Stop N for the X5 at 10:55Pete will board at Amesbury 11:16Arrive Pewsey 11:28Walk 500m to Crown Inn Walcott Road – World’s End Beers (usually 3 ales)https://www.thecrowninnpewsey.com/Walk 500m to The Shed Alehouse (usually 5 ales) \n\n\n\nBus trip to Pewsey – Organiser Pete Matthews \n\n\n\n\nHome\n\n\n\n\nOptional visit to Coopers Arms 700m walk. LocAle pub in GBG 2024 \n\n\n\nReturn buses at 15:38\, or 17:08 (The last bus is 18:37 for those that wish to risk it.) \n\n\n\nWhatPub entries    \n\n\n\nhttps://whatpub.com/pubs/SWN/208/crown-inn-pewsey \n\n\n\nhttps://whatpub.com/pubs/SWN/309/shed-alehouse-pewsey \n\n\n\nhttps://whatpub.com/pubs/SWN/206/coopers-arms-pewsey
URL:https://salisburycamra.org.uk/event/bus-social-pewsey/
LOCATION:Wiltshire
END:VEVENT
BEGIN:VEVENT
DTSTART;TZID=Europe/London:20250115T193000
DTEND;TZID=Europe/London:20250115T223000
DTSTAMP:20260422T230205
CREATED:20250102T172413Z
LAST-MODIFIED:20250102T172454Z
UID:3678-1736969400-1736980200@salisburycamra.org.uk
SUMMARY:City Saunter - Fisherton Street
DESCRIPTION:New Street… \n\n\n\n\n(A) Hettie Bells\n\n\n\n(B) Deacons\n\n\n\n(C) Bridge Tap\n\n\n\n(D) Sips
URL:https://salisburycamra.org.uk/event/city-saunter-fisherton-street-2/
LOCATION:Wiltshire
END:VEVENT
BEGIN:VEVENT
DTSTART;TZID=Europe/London:20250111T120000
DTEND;TZID=Europe/London:20250111T150000
DTSTAMP:20260422T230205
CREATED:20250102T171128Z
LAST-MODIFIED:20250102T171156Z
UID:3675-1736596800-1736607600@salisburycamra.org.uk
SUMMARY:New Year Social
DESCRIPTION:We’ll be lunching at the Pheasant (a change to the original venue). Spaces are limited so please book your places. \n\n\n\nCHRISTMAS SOCIAL MENU \n\n\n\nHere is the menu for the meal at the Pheasant on the 11th January. Please let Steve know your choices by next Wednesday 1st as we are pre-ordering. Also let me know if you have any special requests or dietary requirements as they can cater accordingly. \n\n\nPheasant-Menu-24-11-2024.docx-1
URL:https://salisburycamra.org.uk/event/new-year-social-3/
LOCATION:Wiltshire
END:VEVENT
BEGIN:VEVENT
DTSTART;TZID=Europe/London:20250108T193000
DTEND;TZID=Europe/London:20250108T210000
DTSTAMP:20260422T230205
CREATED:20241107T132636Z
LAST-MODIFIED:20241107T132641Z
UID:3647-1736364600-1736370000@salisburycamra.org.uk
SUMMARY:Open Branch Meeting - Wyndham Arms
DESCRIPTION:All welcome\, come along and join in.
URL:https://salisburycamra.org.uk/event/open-branch-meeting-wyndham-arms-4/
LOCATION:Wiltshire
END:VEVENT
BEGIN:VEVENT
DTSTART;TZID=Europe/London:20241213T183000
DTEND;TZID=Europe/London:20241213T230000
DTSTAMP:20260422T230205
CREATED:20241107T132036Z
LAST-MODIFIED:20241107T132042Z
UID:3645-1734114600-1734130800@salisburycamra.org.uk
SUMMARY:GBG Saunter
DESCRIPTION:The Good Beer Guide Contenders… \n\n\n\n\n(A) Duke of York\n\n\n\n(B) Village Freehouse\n\n\n\n(C) Haunch of Venison\n\n\n\n(D) Rai d’Or\n\n\n\n(E) Winchester Gate\n\n\n\n(F) Wyndham Arms
URL:https://salisburycamra.org.uk/event/gbg-saunter/
LOCATION:Wiltshire
END:VEVENT
BEGIN:VEVENT
DTSTART;TZID=Europe/London:20241207T114000
DTEND;TZID=Europe/London:20241207T163000
DTSTAMP:20260422T230205
CREATED:20241107T130520Z
LAST-MODIFIED:20241107T130525Z
UID:3643-1733571600-1733589000@salisburycamra.org.uk
SUMMARY:Bus Social - Whiteparish
DESCRIPTION:Depart Endless St Stop D X7R 11:40 arrive All Saints Church 12:02. For those wishing to have lunch\, advance booking is essential by calling the pub on 01794 884004. Depart on the X7 or X7R from All Saints Church at 15:02 or 16:04\, arriving back in Salisbury 26 minutes later.
URL:https://salisburycamra.org.uk/event/bus-social-whiteparish-2/
LOCATION:Wiltshire
END:VEVENT
BEGIN:VEVENT
DTSTART;TZID=Europe/London:20241204T193000
DTEND;TZID=Europe/London:20241204T210000
DTSTAMP:20260422T230205
CREATED:20241107T123746Z
LAST-MODIFIED:20241107T123755Z
UID:3639-1733340600-1733346000@salisburycamra.org.uk
SUMMARY:Open Branch Meeting - Ox Row Inn
DESCRIPTION:All welcome\, come along and join in.
URL:https://salisburycamra.org.uk/event/open-branch-meeting-ox-row-inn/
LOCATION:Wiltshire
END:VEVENT
BEGIN:VEVENT
DTSTART;TZID=Europe/London:20241129T190000
DTEND;TZID=Europe/London:20241129T230000
DTSTAMP:20260422T230205
CREATED:20241107T125329Z
LAST-MODIFIED:20241107T183312Z
UID:3641-1732906800-1732921200@salisburycamra.org.uk
SUMMARY:Minibus Trip (Chalke Valley)
DESCRIPTION:Broad Chalke\, Bishopstone\, Odstock & Coombe Bissett. \n\n\n\nN.B. Minibus should depart from the coach station if open\, otherwise it will depart from St John’s St. (Opposite the White Hart). Also\, note later start time of 7.00. \n\n\n\nNames to Andrew please to guarantee your place \n\n\n\n\n(A) St John St. or\, if open\, Coach Station\n\n\n\n(B) Queen’s Head\, Broad Chalke\n\n\n\n(C) White Hart\, Bishopstone\n\n\n\n(D) Yew Tree\, Odstock\n\n\n\n(E) Fox & Goose\, Coombe Bissett
URL:https://salisburycamra.org.uk/event/minibus-trip-clalke-valley/
LOCATION:Wiltshire
END:VEVENT
BEGIN:VEVENT
DTSTART;TZID=Europe/London:20241127T092000
DTEND;TZID=Europe/London:20241127T170000
DTSTAMP:20260422T230205
CREATED:20241009T044946Z
LAST-MODIFIED:20241009T044952Z
UID:3633-1732699200-1732726800@salisburycamra.org.uk
SUMMARY:Train Social - London
DESCRIPTION:Depart 9.21am Salisbury\, arrive London Waterloo 10.49am. \n\n\n\nTake 188 bus from Waterloo station stop E to Deptford (50mins). Alight Sayes Court then 5 minutes walk to Dog & Bell. \n\n\n\nFive minute walk to Deptford High Street for buses to Canada Water (30 mins). Then 11 minute walk to Mayflower. \n\n\n\nFour minute walk to Rotherhithe Station Stop W for C10 bus to Waterloo (30 mins) for Waterloo Tap and optionally Hole in the Wall.Return train departs 3.50pm\, arrives Salisbury 5.20pm – or later to suit you. \n\n\n\nBook after 5 September for cheap advance single fares.
URL:https://salisburycamra.org.uk/event/train-social-london/
LOCATION:Wiltshire
ORGANIZER;CN="Andrew Ward":MAILTO:ptc@salisburycamra.org.uk
END:VEVENT
BEGIN:VEVENT
DTSTART;TZID=Europe/London:20241120T193000
DTEND;TZID=Europe/London:20241120T230000
DTSTAMP:20260422T230205
CREATED:20241009T044025Z
LAST-MODIFIED:20241009T044031Z
UID:3631-1732131000-1732143600@salisburycamra.org.uk
SUMMARY:City Saunter - New Street
DESCRIPTION:New Street… \n\n\n\n\n(A) Bell & Crown\n\n\n\n(B) Wig & Quill\n\n\n\n(C) New Inn\n\n\n\n(D) Old Ale & Coffee House
URL:https://salisburycamra.org.uk/event/city-saunter-new-street-3/
LOCATION:Wiltshire
END:VEVENT
BEGIN:VEVENT
DTSTART;TZID=Europe/London:20241115T183000
DTEND;TZID=Europe/London:20241115T230000
DTSTAMP:20260422T230205
CREATED:20241009T043039Z
LAST-MODIFIED:20241009T043049Z
UID:3627-1731695400-1731711600@salisburycamra.org.uk
SUMMARY:Minibus Trip (South)
DESCRIPTION:Alderbury\, West Tytherley\, Winterslow and Farley. \n\n\n\nN.B. Minibus should depart from the coach station if open\, otherwise it will depart from St John’s St. (Opposite the White Hart). \n\n\n\nNames to Andrew please to guarantee your place \n\n\n\n\n(A) Coach Station (Hopefully)\n\n\n\n(B) Green Dragon\, Alderbury\n\n\n\nBlack Horse\, West Tytherley (South Hampshire Branch)\n\n\n\n(C) Lord Nelson\, Winterslow\n\n\n\n(D) Hook & Glove\, Farley
URL:https://salisburycamra.org.uk/event/minibus-trip-south-2/
LOCATION:Wiltshire
ORGANIZER;CN="Social Secretary":MAILTO:social.secretary@salisburycamra.org.uk
END:VEVENT
BEGIN:VEVENT
DTSTART;TZID=Europe/London:20241109T105500
DTEND;TZID=Europe/London:20241109T170000
DTSTAMP:20260422T230205
CREATED:20241009T041147Z
LAST-MODIFIED:20241009T041152Z
UID:3625-1731149700-1731171600@salisburycamra.org.uk
SUMMARY:Bus Social - Devizes
DESCRIPTION:10:55am. Bus 2\, New Canal\, Stop R to Devizes\, White Bear\, and then Berwick St James\, The Boot Inn.
URL:https://salisburycamra.org.uk/event/bus-social-devizes/
LOCATION:Wiltshire
ORGANIZER;CN="Andrew Ward":MAILTO:ptc@salisburycamra.org.uk
END:VEVENT
BEGIN:VEVENT
DTSTART;TZID=Europe/London:20241106T193000
DTEND;TZID=Europe/London:20241106T220000
DTSTAMP:20260422T230205
CREATED:20241009T040535Z
LAST-MODIFIED:20241009T040545Z
UID:3623-1730921400-1730930400@salisburycamra.org.uk
SUMMARY:Open Branch Meeting - Wyndham Arms
DESCRIPTION:All welcome\, come along and join in.
URL:https://salisburycamra.org.uk/event/open-branch-meeting-wyndham-arms-3/
LOCATION:Wiltshire
END:VEVENT
BEGIN:VEVENT
DTSTART;TZID=Europe/London:20241024T112500
DTEND;TZID=Europe/London:20241024T170000
DTSTAMP:20260422T230205
CREATED:20241009T034310Z
LAST-MODIFIED:20241009T034314Z
UID:3617-1729769100-1729789200@salisburycamra.org.uk
SUMMARY:Bus Social - Ringwood
DESCRIPTION:Public transport trip to Ringwood.
URL:https://salisburycamra.org.uk/event/bus-social-ringwood/
LOCATION:Wiltshire
ORGANIZER;CN="Andrew Ward":MAILTO:ptc@salisburycamra.org.uk
END:VEVENT
BEGIN:VEVENT
DTSTART;TZID=Europe/London:20241016T193000
DTEND;TZID=Europe/London:20241016T230000
DTSTAMP:20260422T230205
CREATED:20241009T035749Z
LAST-MODIFIED:20241009T050251Z
UID:3619-1729107000-1729119600@salisburycamra.org.uk
SUMMARY:City Saunter
DESCRIPTION:City Centre… \n\n\n\n\n(A) Five Bells\n\n\n\n(B) Royal George\n\n\n\n(C) Pheasant\n\n\n\n(D) Coach & Horses
URL:https://salisburycamra.org.uk/event/city-saunter-8/
LOCATION:Wiltshire
ORGANIZER;CN="Eleanor Roberts":MAILTO:social.secretary@salisburycamra.org.uk
END:VEVENT
BEGIN:VEVENT
DTSTART;TZID=Europe/London:20241011T183000
DTEND;TZID=Europe/London:20241011T223000
DTSTAMP:20260422T230205
CREATED:20241009T033028Z
LAST-MODIFIED:20241009T033038Z
UID:3615-1728671400-1728685800@salisburycamra.org.uk
SUMMARY:Minibus Trip (North)
DESCRIPTION:Upavon\, East Chisenbury & Enford. \n\n\n\nN.B. Minibus will depart from St John’s St. (Opposite the White Hart) as the coach station is currently closed. \n\n\n\nNames to Andrew please to guarantee your place\, minibus leaves St John’s St. at 6.30 \n\n\n\n\n(A) White Hart Hotel (Bus Stop)\n\n\n\nAntelope\, Upavon\n\n\n\nShip\, Upavon\n\n\n\n(B) Red Lion\, East Chisenbury\n\n\n\n(C) Swan\, Enford
URL:https://salisburycamra.org.uk/event/minibus-trip-north-2/
LOCATION:Wiltshire
ORGANIZER;CN="Steve Stringer":MAILTO:secretary@salisburycamra.org.uk
END:VEVENT
BEGIN:VEVENT
DTSTART;TZID=Europe/London:20241002T203000
DTEND;TZID=Europe/London:20241002T220000
DTSTAMP:20260422T230205
CREATED:20240913T114625Z
LAST-MODIFIED:20240913T114630Z
UID:3610-1727901000-1727906400@salisburycamra.org.uk
SUMMARY:Open Branch Meeting
DESCRIPTION:All welcome\, come along and join in.
URL:https://salisburycamra.org.uk/event/open-branch-meeting-28/
LOCATION:Wiltshire
END:VEVENT
BEGIN:VEVENT
DTSTART;TZID=Europe/London:20240925T100000
DTEND;TZID=Europe/London:20240925T180000
DTSTAMP:20260422T230205
CREATED:20240903T154734Z
LAST-MODIFIED:20240903T155236Z
UID:3601-1727258400-1727287200@salisburycamra.org.uk
SUMMARY:Bus Social - Stockbridge
DESCRIPTION:10:02 68 from stop W (Cathedral Hotel) arrives Stockbridge St Peter’s Church 10:40. \n\n\n\n\nThree Cups (Flower Pots)\n\n\n\nGrosvenor Hotel (Greene King\, Hardy & Hansons)\n\n\n\nWhite Hart (Fullers / Gales)\n\n\n\nGreyhound on the Test (Ringwood).\n\n\n\n\nReturn by 68 at 15:10 from Town Hall. \n\n\n\nOption 2 continue to Winchester 13:20 on the 16 arrives Winchester 14:00 for the:NOTE!!! bus times TBC as next term’s timetable is not out yet. \n\n\n\n\nOld Vine\n\n\n\nWykeham Arms\n\n\n\nand/or Black Boy\n\n\n\n\nand return on the 68 at 16:38 from Winchester Bus Station stand F arriving back 17:49. \n\n\n\nOption 3 walk 30 mins to Peat Spade at Longstock.
URL:https://salisburycamra.org.uk/event/bus-social-stockbridge/
LOCATION:Wiltshire
END:VEVENT
END:VCALENDAR