BEGIN:VCALENDAR
VERSION:2.0
PRODID:-//Salisbury &amp; South Wiltshire CAMRA - ECPv6.15.20//NONSGML v1.0//EN
CALSCALE:GREGORIAN
METHOD:PUBLISH
X-WR-CALNAME:Salisbury &amp; South Wiltshire CAMRA
X-ORIGINAL-URL:https://salisburycamra.org.uk
X-WR-CALDESC:Events for Salisbury &amp; South Wiltshire CAMRA
REFRESH-INTERVAL;VALUE=DURATION:PT1H
X-Robots-Tag:noindex
X-PUBLISHED-TTL:PT1H
BEGIN:VTIMEZONE
TZID:Europe/London
BEGIN:DAYLIGHT
TZOFFSETFROM:+0000
TZOFFSETTO:+0100
TZNAME:BST
DTSTART:20230326T010000
END:DAYLIGHT
BEGIN:STANDARD
TZOFFSETFROM:+0100
TZOFFSETTO:+0000
TZNAME:GMT
DTSTART:20231029T010000
END:STANDARD
BEGIN:DAYLIGHT
TZOFFSETFROM:+0000
TZOFFSETTO:+0100
TZNAME:BST
DTSTART:20240331T010000
END:DAYLIGHT
BEGIN:STANDARD
TZOFFSETFROM:+0100
TZOFFSETTO:+0000
TZNAME:GMT
DTSTART:20241027T010000
END:STANDARD
BEGIN:DAYLIGHT
TZOFFSETFROM:+0000
TZOFFSETTO:+0100
TZNAME:BST
DTSTART:20250330T010000
END:DAYLIGHT
BEGIN:STANDARD
TZOFFSETFROM:+0100
TZOFFSETTO:+0000
TZNAME:GMT
DTSTART:20251026T010000
END:STANDARD
END:VTIMEZONE
BEGIN:VEVENT
DTSTART;TZID=Europe/London:20240918T193000
DTEND;TZID=Europe/London:20240918T223000
DTSTAMP:20260422T232325
CREATED:20240427T122255Z
LAST-MODIFIED:20240427T122300Z
UID:3502-1726687800-1726698600@salisburycamra.org.uk
SUMMARY:Amesbury Amble
DESCRIPTION:Amesbury… \n\n\n\nX4 bus; 19:05 from Blue Boar Row \n\n\n\n\n(A)   Bell\n\n\n\n(B)   Antrobus Arms\n\n\n\n(C)   George\n\n\n\n(D)   New Inn
URL:https://salisburycamra.org.uk/event/amesbury-amble/
END:VEVENT
BEGIN:VEVENT
DTSTART;TZID=Europe/London:20240913T183000
DTEND;TZID=Europe/London:20240913T230000
DTSTAMP:20260422T232325
CREATED:20240903T152049Z
LAST-MODIFIED:20240903T152333Z
UID:3597-1726252200-1726268400@salisburycamra.org.uk
SUMMARY:Minibus Trip (West)
DESCRIPTION:Hindon & Mere. \n\n\n\nN.B. Minibus will depart from St John’s St. (Opposite the White Hart) as the coach station is currently closed. \n\n\n\nNames to Andrew please to guarantee your place\, minibus leaves St John’s St. at 6.30 \n\n\n\n\n(A) White Hart Hotel (Bus Stop)\n\n\n\n(B) Butt of Sherry\, Mere\n\n\n\n(C) George Inn\, Mere\n\n\n\n(D) Grosvenor Arms\, Hindon\n\n\n\n(E) Lamb\, Hindon
URL:https://salisburycamra.org.uk/event/minibus-trip-west-2/
END:VEVENT
BEGIN:VEVENT
DTSTART;TZID=Europe/London:20240907T103000
DTEND;TZID=Europe/London:20240907T170000
DTSTAMP:20260422T232325
CREATED:20240903T143830Z
LAST-MODIFIED:20240903T143836Z
UID:3595-1725705000-1725728400@salisburycamra.org.uk
SUMMARY:Eastleigh & Chandlers Ford by Train
DESCRIPTION:Train trip to Eastleigh & Chandlers Ford. \n\n\n\nDeparts 10:56 Salisbury(SAL) Platform 6. Arrives 11:50 Eastleigh(ESL)  Platform 1Then a 5min walk to Steam Town Brew Co.  open Sat 12:00 BOOKING ADVISABLE! \n\n\n\nSteam Town Brew Co. 1 Bishopstoke Rd\, Eastleigh SO50 6AD  02382 359139 \n\n\n\nhttps://steamtown.co.uk/ \n\n\n\nDeparts 13:51 Eastleigh(ESL) Platform 1. Arrives 13:56 Chandlers Ford(CFR)  Platform 1Then a 5 min walk to The Steel Tank Alehouse open Sat 14:00 \n\n\n\nThe Steel Tank Alehouse  1\, The Central Precinct\, Winchester Road\, Chandler’s Ford\, Eastleigh SO53 2GA \n\n\n\nhttps://www.thesteeltank.com/ \n\n\n\nReturn Departs 15:56 Chandlers Ford(CFR)  Platform 1. (Change at Romsey\,  same platform2)  Arrives 16:39 Salisbury(SAL) Platform 4
URL:https://salisburycamra.org.uk/event/eastleigh-chandlers-ford-by-train/
ORGANIZER;CN="Andrew Ward":MAILTO:ptc@salisburycamra.org.uk
END:VEVENT
BEGIN:VEVENT
DTSTART;TZID=Europe/London:20240904T193000
DTEND;TZID=Europe/London:20240904T220000
DTSTAMP:20260422T232325
CREATED:20240903T141837Z
LAST-MODIFIED:20240903T141842Z
UID:3593-1725478200-1725487200@salisburycamra.org.uk
SUMMARY:Open Branch Meeting
DESCRIPTION:All welcome\, come along and join in.
URL:https://salisburycamra.org.uk/event/open-branch-meeting-27/
END:VEVENT
BEGIN:VEVENT
DTSTART;TZID=Europe/London:20240821T080000
DTEND;TZID=Europe/London:20240821T170000
DTSTAMP:20260422T232325
CREATED:20240427T120936Z
LAST-MODIFIED:20240427T120944Z
UID:3500-1724227200-1724259600@salisburycamra.org.uk
SUMMARY:City Saunter (City Centre - Riverside)
DESCRIPTION:City Centre – Riverside… \n\n\n\n\n(A)   King’s Head\n\n\n\n(B)   Bishops Mill\n\n\n\n(C)   Bridge Tap\n\n\n\n(D)   Old Ale & Coffee House
URL:https://salisburycamra.org.uk/event/city-saunter-city-centre-riverside/
END:VEVENT
BEGIN:VEVENT
DTSTART;TZID=Europe/London:20240810T115000
DTEND;TZID=Europe/London:20240810T170000
DTSTAMP:20260422T232325
CREATED:20240711T142749Z
LAST-MODIFIED:20240711T142802Z
UID:3555-1723290600-1723309200@salisburycamra.org.uk
SUMMARY:Bus Social - Ebbesbourne Wake
DESCRIPTION:Taking the No. 29 bus at 11.50 \n\n\n\nBus stop M. Outside Bradbeers. \n\n\n\n\n(A) Bus Stop M\n\n\n\n(B) Horseshoe Inn
URL:https://salisburycamra.org.uk/event/bus-social-ebbesbourne-wake/
CATEGORIES:Public Transport
ORGANIZER;CN="Andrew Ward":MAILTO:ptc@salisburycamra.org.uk
END:VEVENT
BEGIN:VEVENT
DTSTART;TZID=Europe/London:20240803T120000
DTEND;TZID=Europe/London:20240803T150000
DTSTAMP:20260422T232325
CREATED:20240711T064218Z
LAST-MODIFIED:20240711T064222Z
UID:3541-1722686400-1722697200@salisburycamra.org.uk
SUMMARY:Branch Annual General Meeting
DESCRIPTION:The Salisbury & South Wilts Branch Annual General Meeting will take place on Saturday 3th August commencing at 12:00 PM at Salisbury Rugby Club in Castle Road\, Salisbury. The bar will be available and we hope to provide light refreshments.
URL:https://salisburycamra.org.uk/event/branch-annual-general-meeting-2/
ORGANIZER;CN="Chris White":MAILTO:chairman@salisburycamra.org.uk
END:VEVENT
BEGIN:VEVENT
DTSTART;TZID=Europe/London:20240717T193000
DTEND;TZID=Europe/London:20240717T223000
DTSTAMP:20260422T232325
CREATED:20240427T114750Z
LAST-MODIFIED:20240427T114848Z
UID:3496-1721244600-1721255400@salisburycamra.org.uk
SUMMARY:City Saunter (Castle Street)
DESCRIPTION:Castle Street… \n\n\n\n\n(A)   George & Dragon\n\n\n\n(B)   Avon Brewery\n\n\n\n(C)   Qudos\n\n\n\n(D)   Haunch of Venison
URL:https://salisburycamra.org.uk/event/city-saunter-castle-street-2/
END:VEVENT
BEGIN:VEVENT
DTSTART;TZID=Europe/London:20240712T183000
DTEND;TZID=Europe/London:20240712T230000
DTSTAMP:20260422T232325
CREATED:20240711T054454Z
LAST-MODIFIED:20240711T054859Z
UID:3537-1720809000-1720825200@salisburycamra.org.uk
SUMMARY:Minibus Trip (West)
DESCRIPTION:Mystery trip out West. Hindon & Mere could be on the tour but you’ll only find out when you get there. \n\n\n\nN.B. Minibus will depart from St John’s St. (Opposite the White Hart) as the coach station is currently closed. \n\n\n\nNames to Bruce please to guarantee your place\, minibus leaves St John’s St. at 6.30 \n\n\n\n\n(A) White Hart Hotel (Bus Stop)
URL:https://salisburycamra.org.uk/event/minibus-trip-west/
END:VEVENT
BEGIN:VEVENT
DTSTART;TZID=Europe/London:20240703T193000
DTEND;TZID=Europe/London:20240703T220000
DTSTAMP:20260422T232325
CREATED:20240427T112821Z
LAST-MODIFIED:20240703T084224Z
UID:3490-1720035000-1720044000@salisburycamra.org.uk
SUMMARY:Open Branch Meeting
DESCRIPTION:All welcome\, come along and join in. Please note change of venue:
URL:https://salisburycamra.org.uk/event/open-branch-meeting-26/
END:VEVENT
BEGIN:VEVENT
DTSTART;TZID=Europe/London:20240622T110000
DTEND;TZID=Europe/London:20240622T200000
DTSTAMP:20260422T232325
CREATED:20240427T133238Z
LAST-MODIFIED:20240524T154444Z
UID:3510-1719054000-1719086400@salisburycamra.org.uk
SUMMARY:Summerfest 2024 (Saturday)
DESCRIPTION:30 cask ales\, 5 real ciders. Food available \n\n\n\n\n\n\n\n\n\n\nBuy Tickets\n\n\n\n\n\nBeer List and Other Details
URL:https://salisburycamra.org.uk/event/summerfest-2024-saturday/
LOCATION:Salisbury Guildhall\, Market Place\, Salisbury\, Wiltshire\, SP1 1JH\, United Kingdom
CATEGORIES:Summerfest 2024
ATTACH;FMTTYPE=image/jpeg:https://salisburycamra.org.uk/wp-content/uploads/2024/04/Summerfest2024.jpg
END:VEVENT
BEGIN:VEVENT
DTSTART;TZID=Europe/London:20240621T183000
DTEND;TZID=Europe/London:20240621T230000
DTSTAMP:20260422T232325
CREATED:20240427T132740Z
LAST-MODIFIED:20240524T154726Z
UID:3505-1718994600-1719010800@salisburycamra.org.uk
SUMMARY:Summerfest 2024 (Friday)
DESCRIPTION:30 cask ales\, 5 real ciders. Food available \n\n\n\n\n\n\n\n\n\n\nBuy Tickets\n\n\n\n\n\nBeer List and Other Details
URL:https://salisburycamra.org.uk/event/summerfest-2024-friday/
LOCATION:Salisbury Guildhall\, Market Place\, Salisbury\, Wiltshire\, SP1 1JH\, United Kingdom
CATEGORIES:Summerfest 2024
ATTACH;FMTTYPE=image/jpeg:https://salisburycamra.org.uk/wp-content/uploads/2024/04/Summerfest2024.jpg
ORGANIZER;CN="Andrew Hesketh":MAILTO:chairman@salisburycamra.org.uk
END:VEVENT
BEGIN:VEVENT
DTSTART;TZID=Europe/London:20240619T193000
DTEND;TZID=Europe/London:20240619T223000
DTSTAMP:20260422T232325
CREATED:20240427T114323Z
LAST-MODIFIED:20240427T115053Z
UID:3494-1718825400-1718836200@salisburycamra.org.uk
SUMMARY:City Saunter (City - East)
DESCRIPTION:City – East… \n\n\n\n\n(A)   Wyndham Arms\n\n\n\n(B) Winchester Gate\n\n\n\n(C)   Coach & Horses
URL:https://salisburycamra.org.uk/event/city-saunter-7/
END:VEVENT
BEGIN:VEVENT
DTSTART;TZID=Europe/London:20240605T193000
DTEND;TZID=Europe/London:20240605T220000
DTSTAMP:20260422T232325
CREATED:20240427T112214Z
LAST-MODIFIED:20240427T112219Z
UID:3488-1717615800-1717624800@salisburycamra.org.uk
SUMMARY:Open Branch Meeting
DESCRIPTION:All welcome\, come along and join in.
URL:https://salisburycamra.org.uk/event/open-branch-meeting-25/
END:VEVENT
BEGIN:VEVENT
DTSTART;TZID=Europe/London:20240515T193000
DTEND;TZID=Europe/London:20240515T223000
DTSTAMP:20260422T232325
CREATED:20240427T113427Z
LAST-MODIFIED:20240427T113432Z
UID:3492-1715801400-1715812200@salisburycamra.org.uk
SUMMARY:Wilton Wobble
DESCRIPTION:Wilton… \n\n\n\n\n(A)   Pembroke Arms\n\n\n\n(B)   Greyhound\n\n\n\n(C)   Bear\n\n\n\n\nSuggest the PR3 bus at 19:10 from New Canal
URL:https://salisburycamra.org.uk/event/wilton-wobble-3/
END:VEVENT
BEGIN:VEVENT
DTSTART;TZID=Europe/London:20240511T120000
DTEND;TZID=Europe/London:20240511T220000
DTSTAMP:20260422T232325
CREATED:20240325T165929Z
LAST-MODIFIED:20240325T165934Z
UID:3483-1715428800-1715464800@salisburycamra.org.uk
SUMMARY:Fabulous Family Fun Day
DESCRIPTION:The Fabulous Family Fun Day is back at Salisbury Rugby Club and is more exciting than ever before. \n\n\n\nGet ready for a day packed with family fun galore\, with a live music festival throughout the day\, alongside the ever popular beer festival featuring local beers. \n\n\n\nPimms and Prosecco Bars\, Street Food\, Football\, Touch Rugby and Killer Petanque Tournaments\, Children’s Entertainment (including Circus Wessex\, face painting and bouncy castles) a Grand Raffle to win a holiday in Turkey and much more. \n\n\n\nA performance arena will be added for the 10th Anniversary\, with the Phoenix Stars\, a tug of war and other performers. \n\n\n\nThe Fabulous Family Fun Day raises vital funds for Salisbury Hospice in memory of Lyn Futcher\, who was cared by the amazing palliative care team. To date The Fabulous Family Fun Day has raised an incredible £100\,000 for Salisbury Hospice! \n\n\n\nFor further details please follow the Fabulous Family Fun Day Facebook Page and Instagram Page \n\n\n\nKindly sponsored by Ozweld International. \n\n\n\n. For the real ale connoisseurs… \n\n\n\n\nHopback\n\nGFB\n\n\n\nCitra\n\n\n\nSummer Lightning\n\n\n\n\n\nDownton\n\nQuadhop\n\n\n\nDownton Dream\n\n\n\n\n\nDark Rev\n\nOrbital\n\n\n\nSo LA\n\n\n\n\n\nGritchie\n\nMoon Lore\n\n\n\nEnglish Lore\n\n\n\n\n\nPortobello\n\nWestway Pale\n\n\n\nDecca\n\n\n\nStiff Lip\n\n\n\n\n\nRude Giant\n\nRude Pale Ale\n\n\n\nRude Best\n\n\n\n\n\nStonehenge\n\nPigswill\n\n\n\nDanish Dynamite
URL:https://salisburycamra.org.uk/event/fabulous-family-fun-day-2/
END:VEVENT
BEGIN:VEVENT
DTSTART;TZID=Europe/London:20240501T193000
DTEND;TZID=Europe/London:20240501T220000
DTSTAMP:20260422T232325
CREATED:20240325T162813Z
LAST-MODIFIED:20240325T162826Z
UID:3481-1714591800-1714600800@salisburycamra.org.uk
SUMMARY:Open Branch Meeting (Wyndham Arms\, Salisbury)
DESCRIPTION:All welcome\, come along and join in.
URL:https://salisburycamra.org.uk/event/open-branch-meeting-wyndham-arms-salisbury/
END:VEVENT
BEGIN:VEVENT
DTSTART;TZID=Europe/London:20240424T104000
DTEND;TZID=Europe/London:20240424T173000
DTSTAMP:20260422T232325
CREATED:20240325T162149Z
LAST-MODIFIED:20240325T162155Z
UID:3479-1713955200-1713979800@salisburycamra.org.uk
SUMMARY:Bus to Southampton for the Dancing Man Brewery and Duke of Wellington
DESCRIPTION:Depart 1040 bus X7 from Endless Street Stop D to Southampton. Upon arrival at West Quay either walk straight to the Dancing Man Brewery (10 mins) or follow the historic trail along the Medieval city wall. After a leisurely lunch\, walk back towards West Quay\, stopping at the Duke of Wellington\, before returning to Salisbury from Stop BS on the X7 at 1610 (trains are also available).
URL:https://salisburycamra.org.uk/event/bus-to-southampton-for-the-dancing-man-brewery-and-duke-of-wellington/
ORGANIZER;CN="Andrew Ward":MAILTO:ptc@salisburycamra.org.uk
END:VEVENT
BEGIN:VEVENT
DTSTART;TZID=Europe/London:20240417T193000
DTEND;TZID=Europe/London:20240417T230000
DTSTAMP:20260422T232325
CREATED:20240125T075936Z
LAST-MODIFIED:20240125T081539Z
UID:3417-1713382200-1713394800@salisburycamra.org.uk
SUMMARY:City Saunter (Market Square)
DESCRIPTION:Market Square… \n\n\n\n\n(A)   Ox Row Inn\n\n\n\n(B)   Market Inn\n\n\n\n(C)   Haunch of Venison
URL:https://salisburycamra.org.uk/event/city-saunter-market-square-2/
END:VEVENT
BEGIN:VEVENT
DTSTART;TZID=Europe/London:20240412T183000
DTEND;TZID=Europe/London:20240412T230000
DTSTAMP:20260422T232325
CREATED:20240325T155601Z
LAST-MODIFIED:20240325T155608Z
UID:3477-1712946600-1712962800@salisburycamra.org.uk
SUMMARY:Minibus Trip (North)
DESCRIPTION:North to Netheravon\, back via Woodford… \n\n\n\nNames to Bruce please to guarantee your place\, minibus leaves the coach station at 6.30 \n\n\n\n\n(A) Coach Station\n\n\n\n() Ship Inn\, Upavon\n\n\n\n(B) Dog & Gun\, Netheravon\n\n\n\n(C) Netheravon Club\n\n\n\n(D) Bridge Inn\, Upper Woodford
URL:https://salisburycamra.org.uk/event/minibus-trip-north/
END:VEVENT
BEGIN:VEVENT
DTSTART;TZID=Europe/London:20240403T193000
DTEND;TZID=Europe/London:20240403T220000
DTSTAMP:20260422T232325
CREATED:20240325T153005Z
LAST-MODIFIED:20240325T153012Z
UID:3475-1712172600-1712181600@salisburycamra.org.uk
SUMMARY:Open Branch Meeting (Ox Row Inn\, Salisbury)
DESCRIPTION:All welcome\, come along and join in.
URL:https://salisburycamra.org.uk/event/open-branch-meeting-ox-row-inn-salisbury-5/
END:VEVENT
BEGIN:VEVENT
DTSTART;TZID=Europe/London:20240328T104500
DTEND;TZID=Europe/London:20240328T160000
DTSTAMP:20260422T232325
CREATED:20240311T160235Z
LAST-MODIFIED:20240311T162544Z
UID:3461-1711622700-1711641600@salisburycamra.org.uk
SUMMARY:Bus trip to Warminster and Shearwater
DESCRIPTION:Depart New Canal Stop R 10:45 on the 24 towards Warminster\, arrive 11:38. Visit the Old Bell for lunch. Depart Warminster on the 57 at 13:20. Arrive Bath Arms Shearwater 13:30. Catch the same 57 on its return journey at 14:15\, arrive Warminster 14:25. Quick visit to the Bath Arms (Wetherspoons) before departing on the 24 at 15:00 to Salisbury.
URL:https://salisburycamra.org.uk/event/bus-trip-to-warminster-and-shearwater/
CATEGORIES:Public Transport
ORGANIZER;CN="Andrew Ward":MAILTO:ptc@salisburycamra.org.uk
END:VEVENT
BEGIN:VEVENT
DTSTART;TZID=Europe/London:20240320T193000
DTEND;TZID=Europe/London:20240320T230000
DTSTAMP:20260422T232325
CREATED:20240125T075213Z
LAST-MODIFIED:20240125T081348Z
UID:3415-1710963000-1710975600@salisburycamra.org.uk
SUMMARY:City Saunter (Fisherton Street)
DESCRIPTION:Fisherton Street & St. Pauls… \n\n\n\n\n(A)   Deacons\n\n\n\n(B)   Village\n\n\n\n(C)   Duke of York
URL:https://salisburycamra.org.uk/event/city-saunter-fisherton-street/
END:VEVENT
BEGIN:VEVENT
DTSTART;TZID=Europe/London:20240306T193000
DTEND;TZID=Europe/London:20240306T220000
DTSTAMP:20260422T232325
CREATED:20231211T162313Z
LAST-MODIFIED:20231211T162322Z
UID:3367-1709753400-1709762400@salisburycamra.org.uk
SUMMARY:Open Branch Meeting (Pheasant\, Salisbury)
DESCRIPTION:All welcome\, come along and join in.
URL:https://salisburycamra.org.uk/event/open-branch-meeting-pheasant-salisbury/
END:VEVENT
BEGIN:VEVENT
DTSTART;TZID=Europe/London:20240221T193000
DTEND;TZID=Europe/London:20240221T230000
DTSTAMP:20260422T232325
CREATED:20240124T183852Z
LAST-MODIFIED:20240125T081227Z
UID:3411-1708543800-1708556400@salisburycamra.org.uk
SUMMARY:City Saunter (New Street)
DESCRIPTION:New Street… \n\n\n\n\n(A)   Rai d’Or\n\n\n\n(B)   Bell & Crown\n\n\n\n(C)   Wig & Quill\n\n\n\n(C)   New Inn
URL:https://salisburycamra.org.uk/event/city-saunter-new-street-2/
END:VEVENT
BEGIN:VEVENT
DTSTART;TZID=Europe/London:20240216T183000
DTEND;TZID=Europe/London:20240217T200000
DTSTAMP:20260422T232325
CREATED:20231110T202418Z
LAST-MODIFIED:20251028T134221Z
UID:3316-1708108200-1708200000@salisburycamra.org.uk
SUMMARY:Winterfest XXV (All details TBC)
DESCRIPTION:Sessions on Friday 6.30 – 11 and Saturday 11.00 – 8 \n\n\n\n24 cask ales\, 5 real ciders and perries. \n\n\n\n£9.00 Per session. Ticket includes glass and souvenir programme. Card-carrying CAMRA members get 1/2 pint free. Tickets sales on-line only from 1st December. We do not charge a booking fee! \n\n\n\n\n\nThe Beer List \n\n	\n		Brewery\n		Beer\n		ABV\n	\n	\n		Anarchy Brew Co\n		Blonde Star\n		4.1\n	\n	\n		Arbor Ales\n		Massive Azacc\n		5.4\n	\n	\n		Brew York\n		Calmer Chameleon\n		3.7\n	\n	\n		Dark Revolution\n		Mummy Issues\n		6.0\n	\n	\n		Dark Revolution\n		The Vibes\n		4.6\n	\n	\n		Downton\n		Apple Scrumble\n		4.2\n	\n	\n		Downton\n		Downton Dream\n		4.8\n	\n	\n		Farm Yard Brewery\n		Hoof\n		4.3\n	\n	\n		Gun Brewery\n		Project Babylon\n		4.6\n	\n	\n		Hattie Brown's\n		Mustang Sally\n		4.3\n	\n	\n		Hobsons Brewery\n		Best Bitter\n		3.8\n	\n	\n		Hop Back Brewery\n		Entire Stout\n		4.5\n	\n	\n		Kelham Island Brewery\n		Easy Rider\n		4.3\n	\n	\n		Left Handed Giant Brewery\n		Dark Mild\n		4.0\n	\n	\n		Oakham Ales\n		JHB\n		3.8\n	\n	\n		Roosters Brewing Co.\n		London Thunder\n		4.2\n	\n	\n		Saltaire Brewery\n		Titus\n		3.9\n	\n	\n		Sixpenny\n		Sixpenny Black\n		4.1\n	\n	\n		Sixpenny\n		Sixpenny IPA\n		5.2\n	\n	\n		Stonehenge Ales\n		Old Smokey\n		5.0\n	\n	\n		Stonehenge Ales\n		Spire Ale\n		3.8\n	\n	\n		Thornbridge Brewery\n		Jaipur\n		5.9\n	\n	\n		Triple fff\n		Alton's Pride\n		3.8\n	\n	\n		Triple fff\n		Pressed Rat and Warthog\n		3.8\n	\n	\n		Vibrant Forest\n		Kick Start\n		5.7\n	\n	\n		Vibrant Forest\n		Pupa\n		4.5\n	\n\n\nThe Ciders \n\n	\n		Producer\n		Cider\n		ABV\n	\n	\n		Broadoak Cider\n		Pheasant Plucker\n		4.5\n	\n	\n		Cranborne Chase Cider\n		Vintage\n		6.8\n	\n	\n		Gwatkin Cider Co\n		Squeal Pig\n		4.5\n	\n	\n		Hallets\n		N ational Treasure\n		5.0\n	\n	\n		Purbeck Cider Co\n		Katy Perry\n		5.5\n	\n\n\n\n\n\nBuy Tickets\n\n\n\n\n\nBeer List
URL:https://salisburycamra.org.uk/event/winterfest_xxv/
CATEGORIES:Beer Festivals
ATTACH;FMTTYPE=image/jpeg:https://salisburycamra.org.uk/wp-content/uploads/2023/11/Winterfest-2024-new-logo-scaled.jpg
END:VEVENT
BEGIN:VEVENT
DTSTART;TZID=Europe/London:20240207T193000
DTEND;TZID=Europe/London:20240207T220000
DTSTAMP:20260422T232325
CREATED:20231211T162125Z
LAST-MODIFIED:20231230T143754Z
UID:3365-1707334200-1707343200@salisburycamra.org.uk
SUMMARY:Open Branch Meeting (Bell & Crown\, Salisbury)
DESCRIPTION:All welcome\, come along and join in.
URL:https://salisburycamra.org.uk/event/open-branch-meeting-ox-row-inn-salisbury-4/
END:VEVENT
BEGIN:VEVENT
DTSTART;TZID=Europe/London:20240125T113000
DTEND;TZID=Europe/London:20240125T170000
DTSTAMP:20260422T232325
CREATED:20231211T162840Z
LAST-MODIFIED:20231211T162843Z
UID:3369-1706182200-1706202000@salisburycamra.org.uk
SUMMARY:January midweek Bus Social - Park Inn\, Southampton
DESCRIPTION:Depart on the X7R at 11:40 from Salisbury Endless Street Stop D. Arrive at Southampton Central Station at 12:50 where we will be met by Norman Clinnick\, our acting Regional Director\, who will accompany us on a local bus to the Park Inn. \n\n\n\nThe Park Inn in Shirley Park Road (the address you’ll see online is 37 Carlisle Rd\, Shirley\, Southampton SO16 4FN – it’s right on the corner) usually opens at 3pm\, but will open especially early at 1pm and have a total of 7 ales on offer for this occasion. \n\n\n\nReturn buses depart from Southampton Central to Salisbury at 16:14\, 17:19 and 18:14. You can of course also make your own way there\, or back\, by train
URL:https://salisburycamra.org.uk/event/january-midweek-bus-social-park-inn-southampton/
ORGANIZER;CN="Public Transport Group":MAILTO:ptc@salisburycamra.org.uk
END:VEVENT
BEGIN:VEVENT
DTSTART;TZID=Europe/London:20240117T193000
DTEND;TZID=Europe/London:20240117T230000
DTSTAMP:20260422T232325
CREATED:20240115T090248Z
LAST-MODIFIED:20240115T090253Z
UID:3397-1705519800-1705532400@salisburycamra.org.uk
SUMMARY:City Saunter (City Centre)
DESCRIPTION:City Centre… \n\n\n\n\n(A)   Pheasant\n\n\n\n(B)   Five Bells\n\n\n\n(C)   Coach & Horses
URL:https://salisburycamra.org.uk/event/city-saunter-city-centre-4/
END:VEVENT
BEGIN:VEVENT
DTSTART;TZID=Europe/London:20240113T140000
DTEND;TZID=Europe/London:20240113T230000
DTSTAMP:20260422T232325
CREATED:20231211T164551Z
LAST-MODIFIED:20240102T151736Z
UID:3377-1705154400-1705186800@salisburycamra.org.uk
SUMMARY:New Year Social
DESCRIPTION:We’ll be lunching at the Ox Row Inn with a beer-based menu. Spaces are limited so please book your places. \n\n\n\nCHRISTMAS SOCIAL MENU \n\n\n\nHere is the menu for the meal at the OX-ROW on the 13th January. Please let Steve know your choices by next Friday 5th as we are pre-ordering. Also let me know if you have any special requests or dietary requirements as they can cater accordingly. \n\n\n\nThere are still places if anyone wants to come. I am going to send individual emails also to those already on the list to cover myself! \n\n\n\nStarter: \n\n\n\nFuller’s Black Cab Hampshire Black Pudding Scotch Egg\, apple sauce \n\n\n\nLondon Porter Smoked Salmon\, homemade blinis\, celeriac & beetroot remoulade \n\n\n\nMain Course: \n\n\n\nShortcrust Steak\, London Pride & Mushroom Pie\, served with mash\, hispi cabbage and red wine gravy \n\n\n\nFrontier Beer Battered Haddock\, triple cooked chips\, crushed minted peas\, tartare sauce and lemon \n\n\n\n(+£5 Supplement) Malbec-braised Ox Cheek\, champ potato cake\, pea puree\, buttered wild mushroom & silver skin onions (+£5 Supplement) Pan-roasted Sea Bass Fillet on a golden ale & shellfish risotto with fine herbs\, sea vegetables and lemon oil
URL:https://salisburycamra.org.uk/event/new-year-social-2/
ORGANIZER;CN="Steve Stringer":MAILTO:secretary@salisburycamra.org.uk
END:VEVENT
END:VCALENDAR